View In:
ArcGIS JavaScript
ArcGIS Online Map Viewer
ArcGIS Earth
ArcMap
View Footprint In:
ArcGIS Online Map Viewer
Service Description: Historical map showing roads, transportation, political and cultural features, legend.
Digital reproduction of map (60 x 84 cm.) in the Map, Data and GIS Library, Brock University.
Relief shown by contours. Contour interval 25 feet.
Georeferenced and modified from the "Canada 2 miles to 1 inch" map series, "Ontario, Niagara Peninsula" sheet by Map, Data and GIS Library, Brock University.
Name: EarlyNiagara/NiagaraPeninsula1904
Description: Historical map showing roads, transportation, political and cultural features, legend.
Digital reproduction of map (60 x 84 cm.) in the Map, Data and GIS Library, Brock University.
Relief shown by contours. Contour interval 25 feet.
Georeferenced and modified from the "Canada 2 miles to 1 inch" map series, "Ontario, Niagara Peninsula" sheet by Map, Data and GIS Library, Brock University.
Single Fused Map Cache: false
Extent:
XMin: 572355.760677227
YMin: 4720580.595043713
XMax: 680926.2008092271
YMax: 4798278.720121713
Spatial Reference: 26917
(26917)
Initial Extent:
XMin: 572355.760677227
YMin: 4720580.595043713
XMax: 680926.2008092271
YMax: 4798278.720121713
Spatial Reference: 26917
(26917)
Full Extent:
XMin: 572355.760677227
YMin: 4720580.595043713
XMax: 680926.2008092271
YMax: 4798278.720121713
Spatial Reference: 26917
(26917)
Pixel Size X: 5.417146000000001
Pixel Size Y: 5.417146000000009
Band Count: 3
Pixel Type: U16
RasterFunction Infos: {"rasterFunctionInfos": [{
"name": "None",
"description": "",
"help": ""
}]}
Mensuration Capabilities: Basic
Has Histograms: true
Has Colormap: false
Has Multi Dimensions : false
Rendering Rule:
Min Scale: 0
Max Scale: 0
Copyright Text: Map, Data & GIS Library, Brock University.
Service Data Type: esriImageServiceDataTypeGeneric
Min Values: 0, 0, 0
Max Values: 255, 255, 255
Mean Values: 233.39925082283, 230.4105150811, 213.06166616828
Standard Deviation Values: 38.673876830867, 37.949159409742, 36.254073958889
Object ID Field:
Fields:
None
Default Mosaic Method: Center
Allowed Mosaic Methods:
SortField:
SortValue: null
Mosaic Operator: First
Default Compression Quality: 75
Default Resampling Method: Bilinear
Max Record Count: null
Max Image Height: 4100
Max Image Width: 15000
Max Download Image Count: null
Max Mosaic Image Count: null
Allow Raster Function: true
Allow Copy: true
Allow Analysis: true
Allow Compute TiePoints: false
Supports Statistics: false
Supports Advanced Queries: false
Use StandardizedQueries: true
Raster Type Infos:
Name: Raster Dataset
Description: Supports all ArcGIS Raster Datasets
Help:
Has Raster Attribute Table: false
Edit Fields Info: null
Ownership Based AccessControl For Rasters: null
Child Resources:
Info
Histograms
Statistics
Key Properties
Legend
Raster Function Infos
Supported Operations:
Export Image
Identify
Measure
Compute Histograms
Compute Statistics Histograms
Get Samples
Compute Class Statistics
Query Boundary
Compute Pixel Location
Compute Angles
Validate
Project