View In:
ArcGIS JavaScript
ArcGIS Online Map Viewer
ArcGIS Earth
ArcMap
View Footprint In:
ArcGIS Online Map Viewer
Service Description: Historical map showing the Niagara Peninsula with proposed routes of the First Welland Canal. Routes go to Niagara River, Hamilton and various places along the Grand River. Some main roads, towns, rivers and creeks shown.
Digital reproduction of map in the Public Archives of Canada. National Map Collection. Library and Archives Canada.
Relief shown by shading.
Georeferenced and modified from NMC Map number 19506 by Map, Data and GIS Library, Brock University.
Name: EarlyNiagara/NiagaraRegion1823NMC19506
Description: Historical map showing the Niagara Peninsula with proposed routes of the First Welland Canal. Routes go to Niagara River, Hamilton and various places along the Grand River. Some main roads, towns, rivers and creeks shown.
Digital reproduction of map in the Public Archives of Canada. National Map Collection. Library and Archives Canada.
Relief shown by shading.
Georeferenced and modified from NMC Map number 19506 by Map, Data and GIS Library, Brock University.
Single Fused Map Cache: false
Extent:
XMin: -8917483.424388088
YMin: 5273788.667520791
XMax: -8778221.574582089
YMax: 5378834.855640791
Spatial Reference: 102100
(3857)
Initial Extent:
XMin: -8917483.424388088
YMin: 5273788.667520791
XMax: -8778221.574582089
YMax: 5378834.855640791
Spatial Reference: 102100
(3857)
Full Extent:
XMin: -8917483.424388088
YMin: 5273788.667520791
XMax: -8778221.574582089
YMax: 5378834.855640791
Spatial Reference: 102100
(3857)
Pixel Size X: 21.61444199999993
Pixel Size Y: 21.614442000000015
Band Count: 3
Pixel Type: U16
RasterFunction Infos: {"rasterFunctionInfos": [{
"name": "None",
"description": "",
"help": ""
}]}
Mensuration Capabilities: Basic
Has Histograms: true
Has Colormap: false
Has Multi Dimensions : false
Rendering Rule:
Min Scale: 0
Max Scale: 0
Copyright Text: Map, Data & GIS Library, Brock University.
Service Data Type: esriImageServiceDataTypeGeneric
Min Values: 30, 33, 31
Max Values: 237, 213, 188
Mean Values: 180.31422662495, 162.48693602395, 132.62303706152
Standard Deviation Values: 25.665797437821, 21.238021204751, 16.08006532234
Object ID Field:
Fields:
None
Default Mosaic Method: Center
Allowed Mosaic Methods:
SortField:
SortValue: null
Mosaic Operator: First
Default Compression Quality: 75
Default Resampling Method: Bilinear
Max Record Count: null
Max Image Height: 4100
Max Image Width: 15000
Max Download Image Count: null
Max Mosaic Image Count: null
Allow Raster Function: true
Allow Copy: true
Allow Analysis: true
Allow Compute TiePoints: false
Supports Statistics: false
Supports Advanced Queries: false
Use StandardizedQueries: true
Raster Type Infos:
Name: Raster Dataset
Description: Supports all ArcGIS Raster Datasets
Help:
Has Raster Attribute Table: false
Edit Fields Info: null
Ownership Based AccessControl For Rasters: null
Child Resources:
Info
Histograms
Statistics
Key Properties
Legend
Raster Function Infos
Supported Operations:
Export Image
Identify
Measure
Compute Histograms
Compute Statistics Histograms
Get Samples
Compute Class Statistics
Query Boundary
Compute Pixel Location
Compute Angles
Validate
Project