View In:
ArcGIS JavaScript
ArcGIS Online Map Viewer
ArcGIS Earth
ArcMap
View Footprint In:
ArcGIS Online Map Viewer
Service Description: Historical map showing steets, lot numbers, railroads, the Niagara River and Niagara Falls, international boundary. Includes "Statistics of the Village of Niagara City" and "Statistics of the Town of Clifton, C.W." Relief shown by hachures. Oriented with north to the left. Includes inset: "Inset for Town of Clifton" Geographic coverage of the Town of Clifton and Niagara City, N.Y. along with the Niagara River between the whirlpool and the falls. "Original: actual surveys by Frank French & E.C. Smith, C.E. Published: J.H. French, 8 South Salina Street, Syracuse, N.Y. Courtesy: Earl W. Brydges, Public Library, Niagara Falls, N.Y. Redrawn: by Erna Jahnke under LIP grant AK-2403-9 1974, Niagara Falls Heritage Foundation Incorporated. Research: by George Seibel"
Name: EarlyNiagara/Niagara_Falls_1857_tif
Description: Historical map showing steets, lot numbers, railroads, the Niagara River and Niagara Falls, international boundary. Includes "Statistics of the Village of Niagara City" and "Statistics of the Town of Clifton, C.W." Relief shown by hachures. Oriented with north to the left. Includes inset: "Inset for Town of Clifton" Geographic coverage of the Town of Clifton and Niagara City, N.Y. along with the Niagara River between the whirlpool and the falls. "Original: actual surveys by Frank French & E.C. Smith, C.E. Published: J.H. French, 8 South Salina Street, Syracuse, N.Y. Courtesy: Earl W. Brydges, Public Library, Niagara Falls, N.Y. Redrawn: by Erna Jahnke under LIP grant AK-2403-9 1974, Niagara Falls Heritage Foundation Incorporated. Research: by George Seibel"
Single Fused Map Cache: false
Extent:
XMin: 655221.2904698564
YMin: 4770963.291256685
XMax: 659786.0579506184
YMax: 4776723.730260779
Spatial Reference: 26917
(26917)
Initial Extent:
XMin: 655221.2904698564
YMin: 4770963.291256685
XMax: 659786.0579506184
YMax: 4776723.730260779
Spatial Reference: 26917
(26917)
Full Extent:
XMin: 655221.2904698564
YMin: 4770963.291256685
XMax: 659786.0579506184
YMax: 4776723.730260779
Spatial Reference: 26917
(26917)
Pixel Size X: 0.44116821114932764
Pixel Size Y: 0.7333467860081909
Band Count: 1
Pixel Type: U8
RasterFunction Infos: {"rasterFunctionInfos": [{
"name": "None",
"description": "",
"help": ""
}]}
Mensuration Capabilities: Basic
Has Histograms: true
Has Colormap: false
Has Multi Dimensions : false
Rendering Rule:
Min Scale: 0
Max Scale: 0
Copyright Text:
Service Data Type: esriImageServiceDataTypeGeneric
Min Values: 0
Max Values: 255
Mean Values: 216.02028162537
Standard Deviation Values: 46.460108885222
Object ID Field:
Fields:
None
Default Mosaic Method: Center
Allowed Mosaic Methods:
SortField:
SortValue: null
Mosaic Operator: First
Default Compression Quality: 75
Default Resampling Method: Bilinear
Max Record Count: null
Max Image Height: 4100
Max Image Width: 15000
Max Download Image Count: null
Max Mosaic Image Count: null
Allow Raster Function: true
Allow Copy: true
Allow Analysis: true
Allow Compute TiePoints: false
Supports Statistics: false
Supports Advanced Queries: false
Use StandardizedQueries: true
Raster Type Infos:
Name: Raster Dataset
Description: Supports all ArcGIS Raster Datasets
Help:
Has Raster Attribute Table: false
Edit Fields Info: null
Ownership Based AccessControl For Rasters: null
Child Resources:
Info
Histograms
Statistics
Key Properties
Legend
Raster Function Infos
Supported Operations:
Export Image
Identify
Measure
Compute Histograms
Compute Statistics Histograms
Get Samples
Compute Class Statistics
Query Boundary
Compute Pixel Location
Compute Angles
Validate
Project