View In:
ArcGIS JavaScript
ArcGIS Online Map Viewer
ArcGIS Earth
ArcMap
View Footprint In:
ArcGIS Online Map Viewer
Service Description: Historical map showing land ownership, lot and concession numbers, note.
"With W 25 State papers Shubel Welton Papers about 1784 or earlier"--in bottom corner.
Reproduction of map (18 1/4 x 14 1/2 in.) in Public Archives Canada. National Map Collection. Library and Archives Canada.
Georeferenced and modified from NMC Map number 3556 by Map, Data and GIS Library, Brock University.
Name: EarlyNiagara/NiagaraontheLake1784NMC3556
Description: Historical map showing land ownership, lot and concession numbers, note.
"With W 25 State papers Shubel Welton Papers about 1784 or earlier"--in bottom corner.
Reproduction of map (18 1/4 x 14 1/2 in.) in Public Archives Canada. National Map Collection. Library and Archives Canada.
Georeferenced and modified from NMC Map number 3556 by Map, Data and GIS Library, Brock University.
Single Fused Map Cache: false
Extent:
XMin: -8814840.006328348
YMin: 5333610.556434669
XMax: -8798158.559806349
YMax: 5354465.254650668
Spatial Reference: 102100
(3857)
Initial Extent:
XMin: -8814840.006328348
YMin: 5333610.556434669
XMax: -8798158.559806349
YMax: 5354465.254650668
Spatial Reference: 102100
(3857)
Full Extent:
XMin: -8814840.006328348
YMin: 5333610.556434669
XMax: -8798158.559806349
YMax: 5354465.254650668
Spatial Reference: 102100
(3857)
Pixel Size X: 3.8534179999998415
Pixel Size Y: 3.8534179999999334
Band Count: 1
Pixel Type: U16
RasterFunction Infos: {"rasterFunctionInfos": [{
"name": "None",
"description": "",
"help": ""
}]}
Mensuration Capabilities: Basic
Has Histograms: true
Has Colormap: false
Has Multi Dimensions : false
Rendering Rule:
Min Scale: 0
Max Scale: 0
Copyright Text: Map, Data & GIS Library, Brock University.
Service Data Type: esriImageServiceDataTypeGeneric
Min Values: 0
Max Values: 255
Mean Values: 172.6635470261
Standard Deviation Values: 34.056919782745
Object ID Field:
Fields:
None
Default Mosaic Method: Center
Allowed Mosaic Methods:
SortField:
SortValue: null
Mosaic Operator: First
Default Compression Quality: 75
Default Resampling Method: Bilinear
Max Record Count: null
Max Image Height: 4100
Max Image Width: 15000
Max Download Image Count: null
Max Mosaic Image Count: null
Allow Raster Function: true
Allow Copy: true
Allow Analysis: true
Allow Compute TiePoints: false
Supports Statistics: false
Supports Advanced Queries: false
Use StandardizedQueries: true
Raster Type Infos:
Name: Raster Dataset
Description: Supports all ArcGIS Raster Datasets
Help:
Has Raster Attribute Table: false
Edit Fields Info: null
Ownership Based AccessControl For Rasters: null
Child Resources:
Info
Histograms
Statistics
Key Properties
Legend
Raster Function Infos
Supported Operations:
Export Image
Identify
Measure
Compute Histograms
Compute Statistics Histograms
Get Samples
Compute Class Statistics
Query Boundary
Compute Pixel Location
Compute Angles
Validate
Project