View In:
ArcGIS JavaScript
ArcGIS Online Map Viewer
ArcGIS Earth
ArcMap
View Footprint In:
ArcGIS Online Map Viewer
Service Description: Historical map of Niagara Township showing buildings in the town & military reserve.
Relief shown by shading.
Digital reproduction of map (36 1/2 x 35 1/4 in.) in the Public Archives of Canada. National Map Collection. Library and Archives Canada.
Georeferenced and modified from NMC Map number 16811 by Map, Data and GIS Library, Brock University.
Name: EarlyNiagara/NiagaraontheLake1799NMC16811
Description: Historical map of Niagara Township showing buildings in the town & military reserve.
Relief shown by shading.
Digital reproduction of map (36 1/2 x 35 1/4 in.) in the Public Archives of Canada. National Map Collection. Library and Archives Canada.
Georeferenced and modified from NMC Map number 16811 by Map, Data and GIS Library, Brock University.
Single Fused Map Cache: false
Extent:
XMin: 655265.3156161407
YMin: 4789747.396507324
XMax: 658406.1716161408
YMax: 4792622.273382324
Spatial Reference: 26917
(26917)
Initial Extent:
XMin: 655265.3156161407
YMin: 4789747.396507324
XMax: 658406.1716161408
YMax: 4792622.273382324
Spatial Reference: 26917
(26917)
Full Extent:
XMin: 655265.3156161407
YMin: 4789747.396507324
XMax: 658406.1716161408
YMax: 4792622.273382324
Spatial Reference: 26917
(26917)
Pixel Size X: 0.6058750000000056
Pixel Size Y: 0.6058750000000157
Band Count: 3
Pixel Type: U16
RasterFunction Infos: {"rasterFunctionInfos": [{
"name": "None",
"description": "",
"help": ""
}]}
Mensuration Capabilities: Basic
Has Histograms: true
Has Colormap: false
Has Multi Dimensions : false
Rendering Rule:
Min Scale: 0
Max Scale: 0
Copyright Text: Map, Data & GIS Library, Brock University.
Service Data Type: esriImageServiceDataTypeGeneric
Min Values: 31, 23, 24
Max Values: 249, 250, 248
Mean Values: 198.27886450042, 184.31173914444, 144.08543783402
Standard Deviation Values: 17.924407352471, 17.794930919991, 17.246199137493
Object ID Field:
Fields:
None
Default Mosaic Method: Center
Allowed Mosaic Methods:
SortField:
SortValue: null
Mosaic Operator: First
Default Compression Quality: 75
Default Resampling Method: Bilinear
Max Record Count: null
Max Image Height: 4100
Max Image Width: 15000
Max Download Image Count: null
Max Mosaic Image Count: null
Allow Raster Function: true
Allow Copy: true
Allow Analysis: true
Allow Compute TiePoints: false
Supports Statistics: false
Supports Advanced Queries: false
Use StandardizedQueries: true
Raster Type Infos:
Name: Raster Dataset
Description: Supports all ArcGIS Raster Datasets
Help:
Has Raster Attribute Table: false
Edit Fields Info: null
Ownership Based AccessControl For Rasters: null
Child Resources:
Info
Histograms
Statistics
Key Properties
Legend
Raster Function Infos
Supported Operations:
Export Image
Identify
Measure
Compute Histograms
Compute Statistics Histograms
Get Samples
Compute Class Statistics
Query Boundary
Compute Pixel Location
Compute Angles
Validate
Project