View In:
ArcGIS JavaScript
ArcGIS Online Map Viewer
ArcGIS Earth
ArcMap
View Footprint In:
ArcGIS Online Map Viewer
Service Description: Historical map of Niagara-on-the-Lake, showing buildings, lots, landowners.
Digital reproduction of map (25 3/4 x 38 1/4 in.) in the Public Archives of Canada. National Map Collection. Library and Archives Canada.
Relief shown by shading.
Georeferenced and modified from NMC Map number 22532 by Map, Data and GIS Library, Brock University.
Name: EarlyNiagara/NiagaraontheLake1831NMC22532
Description: Historical map of Niagara-on-the-Lake, showing buildings, lots, landowners.
Digital reproduction of map (25 3/4 x 38 1/4 in.) in the Public Archives of Canada. National Map Collection. Library and Archives Canada.
Relief shown by shading.
Georeferenced and modified from NMC Map number 22532 by Map, Data and GIS Library, Brock University.
Single Fused Map Cache: false
Extent:
XMin: -8805227.341571102
YMin: 5347573.369323649
XMax: -8799560.645992102
YMax: 5352883.42761865
Spatial Reference: 102100
(3857)
Initial Extent:
XMin: -8805227.341571102
YMin: 5347573.369323649
XMax: -8799560.645992102
YMax: 5352883.42761865
Spatial Reference: 102100
(3857)
Full Extent:
XMin: -8805227.341571102
YMin: 5347573.369323649
XMax: -8799560.645992102
YMax: 5352883.42761865
Spatial Reference: 102100
(3857)
Pixel Size X: 1.1285989999999637
Pixel Size Y: 1.1285990000000732
Band Count: 1
Pixel Type: U16
RasterFunction Infos: {"rasterFunctionInfos": [{
"name": "None",
"description": "",
"help": ""
}]}
Mensuration Capabilities: Basic
Has Histograms: true
Has Colormap: false
Has Multi Dimensions : false
Rendering Rule:
Min Scale: 0
Max Scale: 0
Copyright Text: Map, Data & GIS Library, Brock University.
Service Data Type: esriImageServiceDataTypeGeneric
Min Values: 22
Max Values: 255
Mean Values: 189.14449738781
Standard Deviation Values: 28.602924086374
Object ID Field:
Fields:
None
Default Mosaic Method: Center
Allowed Mosaic Methods:
SortField:
SortValue: null
Mosaic Operator: First
Default Compression Quality: 75
Default Resampling Method: Bilinear
Max Record Count: null
Max Image Height: 4100
Max Image Width: 15000
Max Download Image Count: null
Max Mosaic Image Count: null
Allow Raster Function: true
Allow Copy: true
Allow Analysis: true
Allow Compute TiePoints: false
Supports Statistics: false
Supports Advanced Queries: false
Use StandardizedQueries: true
Raster Type Infos:
Name: Raster Dataset
Description: Supports all ArcGIS Raster Datasets
Help:
Has Raster Attribute Table: false
Edit Fields Info: null
Ownership Based AccessControl For Rasters: null
Child Resources:
Info
Histograms
Statistics
Key Properties
Legend
Raster Function Infos
Supported Operations:
Export Image
Identify
Measure
Compute Histograms
Compute Statistics Histograms
Get Samples
Compute Class Statistics
Query Boundary
Compute Pixel Location
Compute Angles
Validate
Project