View In:
ArcGIS JavaScript
ArcGIS Online Map Viewer
ArcGIS Earth
ArcMap
View Footprint In:
ArcGIS Online Map Viewer
Service Description: Historical map showing street names and lot numbers, including lots applied for on John St. and Queen St. at King St. 'granted for the market lots.
Map date: 1839
Digital reproduction of map (15 1/4 x 7 in.) in the Public Archives of Canada. National Map Collection. Library and Archives Canada.
Georeferenced and modified from NMC Map number 4169 by Map, Data and GIS Library, Brock University.
Name: EarlyNiagara/NiagaraontheLake1842NMC4169
Description: Historical map showing street names and lot numbers, including lots applied for on John St. and Queen St. at King St. 'granted for the market lots.
Map date: 1839
Digital reproduction of map (15 1/4 x 7 in.) in the Public Archives of Canada. National Map Collection. Library and Archives Canada.
Georeferenced and modified from NMC Map number 4169 by Map, Data and GIS Library, Brock University.
Single Fused Map Cache: false
Extent:
XMin: 656022.9453385224
YMin: 4790430.9150807
XMax: 656918.3094925224
YMax: 4791468.0601187
Spatial Reference: 26917
(26917)
Initial Extent:
XMin: 656022.9453385224
YMin: 4790430.9150807
XMax: 656918.3094925224
YMax: 4791468.0601187
Spatial Reference: 26917
(26917)
Full Extent:
XMin: 656022.9453385224
YMin: 4790430.9150807
XMax: 656918.3094925224
YMax: 4791468.0601187
Spatial Reference: 26917
(26917)
Pixel Size X: 0.29785899999998394
Pixel Size Y: 0.29785900000008847
Band Count: 1
Pixel Type: U16
RasterFunction Infos: {"rasterFunctionInfos": [{
"name": "None",
"description": "",
"help": ""
}]}
Mensuration Capabilities: Basic
Has Histograms: true
Has Colormap: false
Has Multi Dimensions : false
Rendering Rule:
Min Scale: 0
Max Scale: 0
Copyright Text: copy J.G.C. [James G. Chewett, 1793-1862]
Map, Data & GIS Library, Brock University.
Service Data Type: esriImageServiceDataTypeGeneric
Min Values: 10
Max Values: 245
Mean Values: 120.72873286798
Standard Deviation Values: 19.809069959139
Object ID Field:
Fields:
None
Default Mosaic Method: Center
Allowed Mosaic Methods:
SortField:
SortValue: null
Mosaic Operator: First
Default Compression Quality: 75
Default Resampling Method: Bilinear
Max Record Count: null
Max Image Height: 4100
Max Image Width: 15000
Max Download Image Count: null
Max Mosaic Image Count: null
Allow Raster Function: true
Allow Copy: true
Allow Analysis: true
Allow Compute TiePoints: false
Supports Statistics: false
Supports Advanced Queries: false
Use StandardizedQueries: true
Raster Type Infos:
Name: Raster Dataset
Description: Supports all ArcGIS Raster Datasets
Help:
Has Raster Attribute Table: false
Edit Fields Info: null
Ownership Based AccessControl For Rasters: null
Child Resources:
Info
Histograms
Statistics
Key Properties
Legend
Raster Function Infos
Supported Operations:
Export Image
Identify
Measure
Compute Histograms
Compute Statistics Histograms
Get Samples
Compute Class Statistics
Query Boundary
Compute Pixel Location
Compute Angles
Validate
Project