View In:
ArcGIS JavaScript
ArcGIS Online Map Viewer
ArcGIS Earth
ArcMap
View Footprint In:
ArcGIS Online Map Viewer
Service Description: Historical map showing streets (only a few named), buildings, land grants, forts.
Scale [ca. 1:4,769]
Map date:1843
Digital reproduction of map (59 x 97 cm.) in the Public Archives of Canada. National Map Collection. Library and Archives Canada.
Georeferenced and modified from NMC Map number 43151 by Map, Data and GIS Library, Brock University.
Name: EarlyNiagara/NiagaraontheLake1843NMC43151
Description: Historical map showing streets (only a few named), buildings, land grants, forts.
Scale [ca. 1:4,769]
Map date:1843
Digital reproduction of map (59 x 97 cm.) in the Public Archives of Canada. National Map Collection. Library and Archives Canada.
Georeferenced and modified from NMC Map number 43151 by Map, Data and GIS Library, Brock University.
Single Fused Map Cache: false
Extent:
XMin: 654442.067137274
YMin: 4788770.697219827
XMax: 658562.1335472739
YMax: 4792655.434704827
Spatial Reference: 26917
(26917)
Initial Extent:
XMin: 654442.067137274
YMin: 4788770.697219827
XMax: 658562.1335472739
YMax: 4792655.434704827
Spatial Reference: 26917
(26917)
Full Extent:
XMin: 654442.067137274
YMin: 4788770.697219827
XMax: 658562.1335472739
YMax: 4792655.434704827
Spatial Reference: 26917
(26917)
Pixel Size X: 0.7240889999999948
Pixel Size Y: 0.7240889999999874
Band Count: 1
Pixel Type: U16
RasterFunction Infos: {"rasterFunctionInfos": [{
"name": "None",
"description": "",
"help": ""
}]}
Mensuration Capabilities: Basic
Has Histograms: true
Has Colormap: false
Has Multi Dimensions : false
Rendering Rule:
Min Scale: 0
Max Scale: 0
Copyright Text: (signed) W.C.E. Holloway, Col. Comg. Rl. Engrs.
copy J. Nightingale
Map, Data & GIS Library, Brock University.
Service Data Type: esriImageServiceDataTypeGeneric
Min Values: 8
Max Values: 248
Mean Values: 182.13486983031
Standard Deviation Values: 29.04827677942
Object ID Field:
Fields:
None
Default Mosaic Method: Center
Allowed Mosaic Methods:
SortField:
SortValue: null
Mosaic Operator: First
Default Compression Quality: 75
Default Resampling Method: Bilinear
Max Record Count: null
Max Image Height: 4100
Max Image Width: 15000
Max Download Image Count: null
Max Mosaic Image Count: null
Allow Raster Function: true
Allow Copy: true
Allow Analysis: true
Allow Compute TiePoints: false
Supports Statistics: false
Supports Advanced Queries: false
Use StandardizedQueries: true
Raster Type Infos:
Name: Raster Dataset
Description: Supports all ArcGIS Raster Datasets
Help:
Has Raster Attribute Table: false
Edit Fields Info: null
Ownership Based AccessControl For Rasters: null
Child Resources:
Info
Histograms
Statistics
Key Properties
Legend
Raster Function Infos
Supported Operations:
Export Image
Identify
Measure
Compute Histograms
Compute Statistics Histograms
Get Samples
Compute Class Statistics
Query Boundary
Compute Pixel Location
Compute Angles
Validate
Project