View In:
ArcGIS JavaScript
ArcGIS Online Map Viewer
ArcGIS Earth
ArcMap
View Footprint In:
ArcGIS Online Map Viewer
Service Description: A map of Port Colborne, the termination of the Welland Canal on Lake Erie.
Hamilton H. Killaly surveyed the canal with N.H. Baird for enlargement in 1837. The map is torn and a piece missing upon which there was information regarding authorship and date.
Relief shown by shading.
Map date: 1837?
Digital reproduction of map (19 x 50 in.) in the Public Archives of Canada. National Map Collection. Library and Archives Canada.
Georeferenced and modified from NMC Map number 11428 by Map, Data and GIS Library, Brock University.
Name: EarlyNiagara/PortColborne1837NMC11428
Description: A map of Port Colborne, the termination of the Welland Canal on Lake Erie.
Hamilton H. Killaly surveyed the canal with N.H. Baird for enlargement in 1837. The map is torn and a piece missing upon which there was information regarding authorship and date.
Relief shown by shading.
Map date: 1837?
Digital reproduction of map (19 x 50 in.) in the Public Archives of Canada. National Map Collection. Library and Archives Canada.
Georeferenced and modified from NMC Map number 11428 by Map, Data and GIS Library, Brock University.
Single Fused Map Cache: false
Extent:
XMin: 641708.3943579703
YMin: 4748054.53664517
XMax: 643842.5329629703
YMax: 4749222.97284717
Spatial Reference: 26917
(26917)
Initial Extent:
XMin: 641708.3943579703
YMin: 4748054.53664517
XMax: 643842.5329629703
YMax: 4749222.97284717
Spatial Reference: 26917
(26917)
Full Extent:
XMin: 641708.3943579703
YMin: 4748054.53664517
XMax: 643842.5329629703
YMax: 4749222.97284717
Spatial Reference: 26917
(26917)
Pixel Size X: 0.37473899999999744
Pixel Size Y: 0.3747389999999664
Band Count: 3
Pixel Type: U16
RasterFunction Infos: {"rasterFunctionInfos": [{
"name": "None",
"description": "",
"help": ""
}]}
Mensuration Capabilities: Basic
Has Histograms: true
Has Colormap: false
Has Multi Dimensions : false
Rendering Rule:
Min Scale: 0
Max Scale: 0
Copyright Text: From a plan drawn by H.H. Killaly. Surveyed with N.H. Baird.
Map, Data & GIS Library, Brock University.
Service Data Type: esriImageServiceDataTypeGeneric
Min Values: 39, 29, 36
Max Values: 244, 241, 235
Mean Values: 174.7569825707, 166.96535636469, 142.65602971892
Standard Deviation Values: 23.847269973845, 24.043107988947, 23.769073584453
Object ID Field:
Fields:
None
Default Mosaic Method: Center
Allowed Mosaic Methods:
SortField:
SortValue: null
Mosaic Operator: First
Default Compression Quality: 75
Default Resampling Method: Bilinear
Max Record Count: null
Max Image Height: 4100
Max Image Width: 15000
Max Download Image Count: null
Max Mosaic Image Count: null
Allow Raster Function: true
Allow Copy: true
Allow Analysis: true
Allow Compute TiePoints: false
Supports Statistics: false
Supports Advanced Queries: false
Use StandardizedQueries: true
Raster Type Infos:
Name: Raster Dataset
Description: Supports all ArcGIS Raster Datasets
Help:
Has Raster Attribute Table: false
Edit Fields Info: null
Ownership Based AccessControl For Rasters: null
Child Resources:
Info
Histograms
Statistics
Key Properties
Legend
Raster Function Infos
Supported Operations:
Export Image
Identify
Measure
Compute Histograms
Compute Statistics Histograms
Get Samples
Compute Class Statistics
Query Boundary
Compute Pixel Location
Compute Angles
Validate
Project