View In:
ArcGIS JavaScript
ArcGIS Online Map Viewer
ArcGIS Earth
ArcMap
View Footprint In:
ArcGIS Online Map Viewer
Service Description: Historical map showing roads and buildings of Port Dalhousie, Village Dalhousie, Martindale Pond and the first Welland Canal.
"Surveyed under the superintendance of Captain Mackenzie, R.E. by William Hawkins Dy. Survr. Jany 1839"
Relief shown by shading and hachures. Depths shown by bathymetric soundings.
Photoreproduction of the paper map by Public Archives Canada. National Map Collection. Library and Archives Canada.
Georeferenced and modified from NMC Map number 22720 by Map, Data & GIS Library, Brock University.
Name: EarlyNiagara/PortDalhousie1839NMC22720
Description: Historical map showing roads and buildings of Port Dalhousie, Village Dalhousie, Martindale Pond and the first Welland Canal.
"Surveyed under the superintendance of Captain Mackenzie, R.E. by William Hawkins Dy. Survr. Jany 1839"
Relief shown by shading and hachures. Depths shown by bathymetric soundings.
Photoreproduction of the paper map by Public Archives Canada. National Map Collection. Library and Archives Canada.
Georeferenced and modified from NMC Map number 22720 by Map, Data & GIS Library, Brock University.
Single Fused Map Cache: false
Extent:
XMin: -8826799.380761772
YMin: 5339680.664077672
XMax: -8822256.841941772
YMax: 5344700.061830672
Spatial Reference: 102100
(3857)
Initial Extent:
XMin: -8826799.380761772
YMin: 5339680.664077672
XMax: -8822256.841941772
YMax: 5344700.061830672
Spatial Reference: 102100
(3857)
Full Extent:
XMin: -8826799.380761772
YMin: 5339680.664077672
XMax: -8822256.841941772
YMax: 5344700.061830672
Spatial Reference: 102100
(3857)
Pixel Size X: 1.0764310000000865
Pixel Size Y: 1.0764310000000556
Band Count: 1
Pixel Type: U16
RasterFunction Infos: {"rasterFunctionInfos": [{
"name": "None",
"description": "",
"help": ""
}]}
Mensuration Capabilities: Basic
Has Histograms: true
Has Colormap: false
Has Multi Dimensions : false
Rendering Rule:
Min Scale: 0
Max Scale: 0
Copyright Text: Map, Data & GIS Library, Brock University.
Service Data Type: esriImageServiceDataTypeGeneric
Min Values: 23
Max Values: 255
Mean Values: 154.67990238065
Standard Deviation Values: 45.879300477033
Object ID Field:
Fields:
None
Default Mosaic Method: Center
Allowed Mosaic Methods:
SortField:
SortValue: null
Mosaic Operator: First
Default Compression Quality: 75
Default Resampling Method: Bilinear
Max Record Count: null
Max Image Height: 4100
Max Image Width: 15000
Max Download Image Count: null
Max Mosaic Image Count: null
Allow Raster Function: true
Allow Copy: true
Allow Analysis: true
Allow Compute TiePoints: false
Supports Statistics: false
Supports Advanced Queries: false
Use StandardizedQueries: true
Raster Type Infos:
Name: Raster Dataset
Description: Supports all ArcGIS Raster Datasets
Help:
Has Raster Attribute Table: false
Edit Fields Info: null
Ownership Based AccessControl For Rasters: null
Child Resources:
Info
Histograms
Statistics
Key Properties
Legend
Raster Function Infos
Supported Operations:
Export Image
Identify
Measure
Compute Histograms
Compute Statistics Histograms
Get Samples
Compute Class Statistics
Query Boundary
Compute Pixel Location
Compute Angles
Validate
Project