View In:
ArcGIS JavaScript
ArcGIS Online Map Viewer
ArcGIS Earth
ArcMap
View Footprint In:
ArcGIS Online Map Viewer
Service Description: Map date: Produced approx. 1980, with information as of 1845.
Digital reproduction of map in the Map, Data and GIS Library, Brock University.
Georeferenced and modified from Brock call# G 3462 W45 1829 N3 no.9, by Map, Data and GIS Library, Brock University.
Name: EarlyNiagara/PortDalhousie1845
Description: Map date: Produced approx. 1980, with information as of 1845.
Digital reproduction of map in the Map, Data and GIS Library, Brock University.
Georeferenced and modified from Brock call# G 3462 W45 1829 N3 no.9, by Map, Data and GIS Library, Brock University.
Single Fused Map Cache: false
Extent:
XMin: 639968.1573199504
YMin: 4783828.182490027
XMax: 641448.4843199505
YMax: 4785844.829490026
Spatial Reference: 26917
(26917)
Initial Extent:
XMin: 639968.1573199504
YMin: 4783828.182490027
XMax: 641448.4843199505
YMax: 4785844.829490026
Spatial Reference: 26917
(26917)
Full Extent:
XMin: 639968.1573199504
YMin: 4783828.182490027
XMax: 641448.4843199505
YMax: 4785844.829490026
Spatial Reference: 26917
(26917)
Pixel Size X: 0.20950000000000685
Pixel Size Y: 0.2094999999999876
Band Count: 1
Pixel Type: U16
RasterFunction Infos: {"rasterFunctionInfos": [{
"name": "None",
"description": "",
"help": ""
}]}
Mensuration Capabilities: Basic
Has Histograms: true
Has Colormap: false
Has Multi Dimensions : false
Rendering Rule:
Min Scale: 0
Max Scale: 0
Copyright Text: Map, Data & GIS Library, Brock University.
Service Data Type: esriImageServiceDataTypeGeneric
Min Values: 0
Max Values: 255
Mean Values: 231.59765857186
Standard Deviation Values: 50.611639097079
Object ID Field:
Fields:
None
Default Mosaic Method: Center
Allowed Mosaic Methods:
SortField:
SortValue: null
Mosaic Operator: First
Default Compression Quality: 75
Default Resampling Method: Bilinear
Max Record Count: null
Max Image Height: 4100
Max Image Width: 15000
Max Download Image Count: null
Max Mosaic Image Count: null
Allow Raster Function: true
Allow Copy: true
Allow Analysis: true
Allow Compute TiePoints: false
Supports Statistics: false
Supports Advanced Queries: false
Use StandardizedQueries: true
Raster Type Infos:
Name: Raster Dataset
Description: Supports all ArcGIS Raster Datasets
Help:
Has Raster Attribute Table: false
Edit Fields Info: null
Ownership Based AccessControl For Rasters: null
Child Resources:
Info
Histograms
Statistics
Key Properties
Legend
Raster Function Infos
Supported Operations:
Export Image
Identify
Measure
Compute Histograms
Compute Statistics Histograms
Get Samples
Compute Class Statistics
Query Boundary
Compute Pixel Location
Compute Angles
Validate
Project