View In:
ArcGIS JavaScript
ArcGIS Online Map Viewer
ArcGIS Earth
ArcMap
View Footprint In:
ArcGIS Online Map Viewer
Service Description: Historical map of Port Dalhousie showing harbour features (including proposed new harbour with measurements), major roads, select buildings, some lot owner's names, locks of First Welland Canal.
Digital reproduction of map ( 21 1/2 x 31 1/4 in.) in the Public Archives of Canada. National Map Collection. Library and Archives Canada.
Relief shown by hachures.
Georeferenced and modified from NMC Map number 16937 by Map, Data and GIS Library, Brock University.
Name: EarlyNiagara/PortDalhousie1845NMC16937
Description: Historical map of Port Dalhousie showing harbour features (including proposed new harbour with measurements), major roads, select buildings, some lot owner's names, locks of First Welland Canal.
Digital reproduction of map ( 21 1/2 x 31 1/4 in.) in the Public Archives of Canada. National Map Collection. Library and Archives Canada.
Relief shown by hachures.
Georeferenced and modified from NMC Map number 16937 by Map, Data and GIS Library, Brock University.
Single Fused Map Cache: false
Extent:
XMin: 640114.970112498
YMin: 4784026.40458303
XMax: 641769.307621498
YMax: 4785789.8442680305
Spatial Reference: 26917
(26917)
Initial Extent:
XMin: 640114.970112498
YMin: 4784026.40458303
XMax: 641769.307621498
YMax: 4785789.8442680305
Spatial Reference: 26917
(26917)
Full Extent:
XMin: 640114.970112498
YMin: 4784026.40458303
XMax: 641769.307621498
YMax: 4785789.8442680305
Spatial Reference: 26917
(26917)
Pixel Size X: 0.37882699999999436
Pixel Size Y: 0.3788270000000229
Band Count: 1
Pixel Type: U16
RasterFunction Infos: {"rasterFunctionInfos": [{
"name": "None",
"description": "",
"help": ""
}]}
Mensuration Capabilities: Basic
Has Histograms: true
Has Colormap: false
Has Multi Dimensions : false
Rendering Rule:
Min Scale: 0
Max Scale: 0
Copyright Text: Map, Data & GIS Library, Brock University.
Service Data Type: esriImageServiceDataTypeGeneric
Min Values: 1
Max Values: 255
Mean Values: 200.22379538894
Standard Deviation Values: 34.509891961698
Object ID Field:
Fields:
None
Default Mosaic Method: Center
Allowed Mosaic Methods:
SortField:
SortValue: null
Mosaic Operator: First
Default Compression Quality: 75
Default Resampling Method: Bilinear
Max Record Count: null
Max Image Height: 4100
Max Image Width: 15000
Max Download Image Count: null
Max Mosaic Image Count: null
Allow Raster Function: true
Allow Copy: true
Allow Analysis: true
Allow Compute TiePoints: false
Supports Statistics: false
Supports Advanced Queries: false
Use StandardizedQueries: true
Raster Type Infos:
Name: Raster Dataset
Description: Supports all ArcGIS Raster Datasets
Help:
Has Raster Attribute Table: false
Edit Fields Info: null
Ownership Based AccessControl For Rasters: null
Child Resources:
Info
Histograms
Statistics
Key Properties
Legend
Raster Function Infos
Supported Operations:
Export Image
Identify
Measure
Compute Histograms
Compute Statistics Histograms
Get Samples
Compute Class Statistics
Query Boundary
Compute Pixel Location
Compute Angles
Validate
Project