View In:
ArcGIS JavaScript
ArcGIS Online Map Viewer
ArcGIS Earth
ArcMap
View Footprint In:
ArcGIS Online Map Viewer
Service Description: Historical map showing the First and Second Welland Canal with the Third Welland Canal's proposed new harbor, inner harbor, outer harbor, lighthouse and bridge.
Scale [ca. 1:1,920]
Relief shown by shading and soundings.
Map date: 1845
Digital reproduction of map in the Public Archives of Canada. National Map Collection. Library and Archives Canada.
Georeferenced and modified from NMC Map number 4320 by Map, Data and GIS Library, Brock University.
Name: EarlyNiagara/PortDalhousie1845NMC43204
Description: Historical map showing the First and Second Welland Canal with the Third Welland Canal's proposed new harbor, inner harbor, outer harbor, lighthouse and bridge.
Scale [ca. 1:1,920]
Relief shown by shading and soundings.
Map date: 1845
Digital reproduction of map in the Public Archives of Canada. National Map Collection. Library and Archives Canada.
Georeferenced and modified from NMC Map number 4320 by Map, Data and GIS Library, Brock University.
Single Fused Map Cache: false
Extent:
XMin: 640730.109025533
YMin: 4784230.712213394
XMax: 641711.132705533
YMax: 4785284.629753394
Spatial Reference: 26917
(26917)
Initial Extent:
XMin: 640730.109025533
YMin: 4784230.712213394
XMax: 641711.132705533
YMax: 4785284.629753394
Spatial Reference: 26917
(26917)
Full Extent:
XMin: 640730.109025533
YMin: 4784230.712213394
XMax: 641711.132705533
YMax: 4785284.629753394
Spatial Reference: 26917
(26917)
Pixel Size X: 0.14845999999999757
Pixel Size Y: 0.1484599999999747
Band Count: 1
Pixel Type: U16
RasterFunction Infos: {"rasterFunctionInfos": [{
"name": "None",
"description": "",
"help": ""
}]}
Mensuration Capabilities: Basic
Has Histograms: true
Has Colormap: false
Has Multi Dimensions : false
Rendering Rule:
Min Scale: 0
Max Scale: 0
Copyright Text: ["Drafted"]
Service Data Type: esriImageServiceDataTypeGeneric
Min Values: 2
Max Values: 255
Mean Values: 168.8643733162
Standard Deviation Values: 53.903560604934
Object ID Field:
Fields:
None
Default Mosaic Method: Center
Allowed Mosaic Methods:
SortField:
SortValue: null
Mosaic Operator: First
Default Compression Quality: 75
Default Resampling Method: Bilinear
Max Record Count: null
Max Image Height: 4100
Max Image Width: 15000
Max Download Image Count: null
Max Mosaic Image Count: null
Allow Raster Function: true
Allow Copy: true
Allow Analysis: true
Allow Compute TiePoints: false
Supports Statistics: false
Supports Advanced Queries: false
Use StandardizedQueries: true
Raster Type Infos:
Name: Raster Dataset
Description: Supports all ArcGIS Raster Datasets
Help:
Has Raster Attribute Table: false
Edit Fields Info: null
Ownership Based AccessControl For Rasters: null
Child Resources:
Info
Histograms
Statistics
Key Properties
Legend
Raster Function Infos
Supported Operations:
Export Image
Identify
Measure
Compute Histograms
Compute Statistics Histograms
Get Samples
Compute Class Statistics
Query Boundary
Compute Pixel Location
Compute Angles
Validate
Project