View In:
ArcGIS JavaScript
ArcGIS Online Map Viewer
ArcGIS Earth
ArcMap
View Footprint In:
ArcGIS Online Map Viewer
Service Description: EarlyNiagara/PortDalhousie1880
Name: EarlyNiagara/PortDalhousie1880
Description:
Single Fused Map Cache: false
Extent:
XMin: -8826029.650754994
YMin: 5340524.122997233
XMax: -8821799.729777994
YMax: 5344762.851722233
Spatial Reference: 102100
(3857)
Initial Extent:
XMin: -8826029.650754994
YMin: 5340524.122997233
XMax: -8821799.729777994
YMax: 5344762.851722233
Spatial Reference: 102100
(3857)
Full Extent:
XMin: -8826029.650754994
YMin: 5340524.122997233
XMax: -8821799.729777994
YMax: 5344762.851722233
Spatial Reference: 102100
(3857)
Pixel Size X: 0.7339790000000255
Pixel Size Y: 0.7339790000000492
Band Count: 1
Pixel Type: U16
RasterFunction Infos: {"rasterFunctionInfos": [{
"name": "None",
"description": "",
"help": ""
}]}
Mensuration Capabilities: Basic
Has Histograms: true
Has Colormap: false
Has Multi Dimensions : false
Rendering Rule:
Min Scale: 0
Max Scale: 0
Copyright Text:
Service Data Type: esriImageServiceDataTypeGeneric
Min Values: 0
Max Values: 255
Mean Values: 244.79815985351
Standard Deviation Values: 36.375833965746
Object ID Field:
Fields:
None
Default Mosaic Method: Center
Allowed Mosaic Methods:
SortField:
SortValue: null
Mosaic Operator: First
Default Compression Quality: 75
Default Resampling Method: Bilinear
Max Record Count: null
Max Image Height: 4100
Max Image Width: 15000
Max Download Image Count: null
Max Mosaic Image Count: null
Allow Raster Function: true
Allow Copy: true
Allow Analysis: true
Allow Compute TiePoints: false
Supports Statistics: false
Supports Advanced Queries: false
Use StandardizedQueries: true
Raster Type Infos:
Name: Raster Dataset
Description: Supports all ArcGIS Raster Datasets
Help:
Has Raster Attribute Table: false
Edit Fields Info: null
Ownership Based AccessControl For Rasters: null
Child Resources:
Info
Histograms
Statistics
Key Properties
Legend
Raster Function Infos
Supported Operations:
Export Image
Identify
Measure
Compute Histograms
Compute Statistics Histograms
Get Samples
Compute Class Statistics
Query Boundary
Compute Pixel Location
Compute Angles
Validate
Project