View In:
ArcGIS JavaScript
ArcGIS Online Map Viewer
ArcGIS Earth
ArcMap
View Footprint In:
ArcGIS Online Map Viewer
Service Description: Historical map showing the shoreline at Port Dalhousie "as it was in 1844... and as it is now (1883)", Lock 1 of the Second Welland Canal, line of the First Welland Canal, harbour and dry dock buildings.
Scale [ca. 1:3,076]
Map date: 1883.
Digital reproduction of map (50 x 53 cm.) in the Brock University Map, Data & GIS Library collection.
Georeferenced and modified from Brock call# G 3464 P66 1883 M67 by Map, Data and GIS Library, Brock University.
Name: EarlyNiagara/PortDalhousie1883
Description: Historical map showing the shoreline at Port Dalhousie "as it was in 1844... and as it is now (1883)", Lock 1 of the Second Welland Canal, line of the First Welland Canal, harbour and dry dock buildings.
Scale [ca. 1:3,076]
Map date: 1883.
Digital reproduction of map (50 x 53 cm.) in the Brock University Map, Data & GIS Library collection.
Georeferenced and modified from Brock call# G 3464 P66 1883 M67 by Map, Data and GIS Library, Brock University.
Single Fused Map Cache: false
Extent:
XMin: 639940.0476828864
YMin: 4783905.82339089
XMax: 641909.1360828864
YMax: 4785829.64539089
Spatial Reference: 26917
(26917)
Initial Extent:
XMin: 639940.0476828864
YMin: 4783905.82339089
XMax: 641909.1360828864
YMax: 4785829.64539089
Spatial Reference: 26917
(26917)
Full Extent:
XMin: 639940.0476828864
YMin: 4783905.82339089
XMax: 641909.1360828864
YMax: 4785829.64539089
Spatial Reference: 26917
(26917)
Pixel Size X: 0.31435000000000124
Pixel Size Y: 0.31434999999995006
Band Count: 1
Pixel Type: U16
RasterFunction Infos: {"rasterFunctionInfos": [{
"name": "None",
"description": "",
"help": ""
}]}
Mensuration Capabilities: Basic
Has Histograms: true
Has Colormap: false
Has Multi Dimensions : false
Rendering Rule:
Min Scale: 0
Max Scale: 0
Copyright Text: Signed Thomas Monro
Map, Data & GIS Library, Brock University.
Service Data Type: esriImageServiceDataTypeGeneric
Min Values: 0
Max Values: 255
Mean Values: 234.51833950305
Standard Deviation Values: 32.5236546102
Object ID Field:
Fields:
None
Default Mosaic Method: Center
Allowed Mosaic Methods:
SortField:
SortValue: null
Mosaic Operator: First
Default Compression Quality: 75
Default Resampling Method: Bilinear
Max Record Count: null
Max Image Height: 4100
Max Image Width: 15000
Max Download Image Count: null
Max Mosaic Image Count: null
Allow Raster Function: true
Allow Copy: true
Allow Analysis: true
Allow Compute TiePoints: false
Supports Statistics: false
Supports Advanced Queries: false
Use StandardizedQueries: true
Raster Type Infos:
Name: Raster Dataset
Description: Supports all ArcGIS Raster Datasets
Help:
Has Raster Attribute Table: false
Edit Fields Info: null
Ownership Based AccessControl For Rasters: null
Child Resources:
Info
Histograms
Statistics
Key Properties
Legend
Raster Function Infos
Supported Operations:
Export Image
Identify
Measure
Compute Histograms
Compute Statistics Histograms
Get Samples
Compute Class Statistics
Query Boundary
Compute Pixel Location
Compute Angles
Validate
Project