View In:
ArcGIS JavaScript
ArcGIS Online Map Viewer
ArcGIS Earth
ArcMap
View Footprint In:
ArcGIS Online Map Viewer
Service Description: Map date: 1948 Scale [1:4,800]. Digital reproduction of map (40 x 56 cm.) in the Brock University Map, Data & GIS Library."Office registration no 71206, catalogued, microfilmed."--top right corner. Georeferenced and modified from negative version map, Brock call # G 3464 P66 G45 1948 U74, by Map, Data and GIS Library, Brock University.
Name: EarlyNiagara/PortDalhousie1948
Description: Map date: 1948 Scale [1:4,800]. Digital reproduction of map (40 x 56 cm.) in the Brock University Map, Data & GIS Library."Office registration no 71206, catalogued, microfilmed."--top right corner. Georeferenced and modified from negative version map, Brock call # G 3464 P66 G45 1948 U74, by Map, Data and GIS Library, Brock University.
Single Fused Map Cache: false
Extent:
XMin: -8826686.36381798
YMin: 5340091.988637985
XMax: -8822025.63746898
YMax: 5343995.374825985
Spatial Reference: 102100
(3857)
Initial Extent:
XMin: -8826686.36381798
YMin: 5340091.988637985
XMax: -8822025.63746898
YMax: 5343995.374825985
Spatial Reference: 102100
(3857)
Full Extent:
XMin: -8826686.36381798
YMin: 5340091.988637985
XMax: -8822025.63746898
YMax: 5343995.374825985
Spatial Reference: 102100
(3857)
Pixel Size X: 0.7432189999999821
Pixel Size Y: 0.7432190000000839
Band Count: 3
Pixel Type: U16
RasterFunction Infos: {"rasterFunctionInfos": [{
"name": "None",
"description": "",
"help": ""
}]}
Mensuration Capabilities: Basic
Has Histograms: false
Has Colormap: false
Has Multi Dimensions : false
Rendering Rule:
Min Scale: 0
Max Scale: 0
Copyright Text: Douglas G. Ure, Engineer & Surveyor; Map, Data & GIS Library, Brock University.
Service Data Type: esriImageServiceDataTypeGeneric
Min Values: 0, 0, 0
Max Values: 255, 255, 255
Mean Values: 234.0868891878, 235.06326180746, 236.31695161521
Standard Deviation Values: 59.691777920403, 56.956968103751, 53.32811130778
Object ID Field:
Fields:
None
Default Mosaic Method: Center
Allowed Mosaic Methods:
SortField:
SortValue: null
Mosaic Operator: First
Default Compression Quality: 75
Default Resampling Method: Bilinear
Max Record Count: null
Max Image Height: 4100
Max Image Width: 15000
Max Download Image Count: null
Max Mosaic Image Count: null
Allow Raster Function: true
Allow Copy: true
Allow Analysis: true
Allow Compute TiePoints: false
Supports Statistics: false
Supports Advanced Queries: false
Use StandardizedQueries: true
Raster Type Infos:
Name: Raster Dataset
Description: Supports all ArcGIS Raster Datasets
Help:
Has Raster Attribute Table: false
Edit Fields Info: null
Ownership Based AccessControl For Rasters: null
Child Resources:
Info
Statistics
Key Properties
Legend
Raster Function Infos
Supported Operations:
Export Image
Identify
Measure
Compute Histograms
Compute Statistics Histograms
Get Samples
Compute Class Statistics
Query Boundary
Compute Pixel Location
Compute Angles
Validate
Project