View In:
ArcGIS JavaScript
ArcGIS Online Map Viewer
ArcGIS Earth
ArcMap
View Footprint In:
ArcGIS Online Map Viewer
Service Description: EarlyNiagara/Port_Dalhousie_1886_geo_tif
Name: EarlyNiagara/Port_Dalhousie_1886_geo_tif
Description:
Single Fused Map Cache: false
Extent:
XMin: -8824519.714420732
YMin: 5341282.623494592
XMax: -8822944.693580732
YMax: 5344261.251234592
Spatial Reference: 102100
(3857)
Initial Extent:
XMin: -8824519.714420732
YMin: 5341282.623494592
XMax: -8822944.693580732
YMax: 5344261.251234592
Spatial Reference: 102100
(3857)
Full Extent:
XMin: -8824519.714420732
YMin: 5341282.623494592
XMax: -8822944.693580732
YMax: 5344261.251234592
Spatial Reference: 102100
(3857)
Pixel Size X: 0.4968520000001139
Pixel Size Y: 0.49685200000006247
Band Count: 1
Pixel Type: U16
RasterFunction Infos: {"rasterFunctionInfos": [{
"name": "None",
"description": "",
"help": ""
}]}
Mensuration Capabilities: Basic
Has Histograms: true
Has Colormap: false
Has Multi Dimensions : false
Rendering Rule:
Min Scale: 0
Max Scale: 0
Copyright Text:
Service Data Type: esriImageServiceDataTypeGeneric
Min Values: 0
Max Values: 255
Mean Values: 189.79114619898
Standard Deviation Values: 47.080455316952
Object ID Field:
Fields:
None
Default Mosaic Method: Center
Allowed Mosaic Methods:
SortField:
SortValue: null
Mosaic Operator: First
Default Compression Quality: 75
Default Resampling Method: Bilinear
Max Record Count: null
Max Image Height: 4100
Max Image Width: 15000
Max Download Image Count: null
Max Mosaic Image Count: null
Allow Raster Function: true
Allow Copy: true
Allow Analysis: true
Allow Compute TiePoints: false
Supports Statistics: false
Supports Advanced Queries: false
Use StandardizedQueries: true
Raster Type Infos:
Name: Raster Dataset
Description: Supports all ArcGIS Raster Datasets
Help:
Has Raster Attribute Table: false
Edit Fields Info: null
Ownership Based AccessControl For Rasters: null
Child Resources:
Info
Histograms
Statistics
Key Properties
Legend
Raster Function Infos
Supported Operations:
Export Image
Identify
Measure
Compute Histograms
Compute Statistics Histograms
Get Samples
Compute Class Statistics
Query Boundary
Compute Pixel Location
Compute Angles
Validate
Project