View In:
ArcGIS JavaScript
ArcGIS Online Map Viewer
ArcGIS Earth
ArcMap
View Footprint In:
ArcGIS Online Map Viewer
Service Description: Historical map showing part of the Queenston and Grimsby Road. Shows road as planned and actual route via St. Davids and St. Catharines ; distances, buildings with names of owners, relief, trees, bridges, culverts.
Relief shown by shading and landform drawings.
Map date: 1838
Digital reproduction of map (20 x 198 in.) in the Public Archives of Canada. National Map Collection. Library and Archives Canada.
Georeferenced and modified from NMC Map number 119584-4, by Map, Data and GIS Library, Brock University.
Name: EarlyNiagara/Queenston16MileCreek1838NMC1195844
Description: Historical map showing part of the Queenston and Grimsby Road. Shows road as planned and actual route via St. Davids and St. Catharines ; distances, buildings with names of owners, relief, trees, bridges, culverts.
Relief shown by shading and landform drawings.
Map date: 1838
Digital reproduction of map (20 x 198 in.) in the Public Archives of Canada. National Map Collection. Library and Archives Canada.
Georeferenced and modified from NMC Map number 119584-4, by Map, Data and GIS Library, Brock University.
Single Fused Map Cache: false
Extent:
XMin: 631098.2805168435
YMin: 4776947.075265571
XMax: 641461.8328128435
YMax: 4779786.638859571
Spatial Reference: 26917
(26917)
Initial Extent:
XMin: 631098.2805168435
YMin: 4776947.075265571
XMax: 641461.8328128435
YMax: 4779786.638859571
Spatial Reference: 26917
(26917)
Full Extent:
XMin: 631098.2805168435
YMin: 4776947.075265571
XMax: 641461.8328128435
YMax: 4779786.638859571
Spatial Reference: 26917
(26917)
Pixel Size X: 1.5542219999999927
Pixel Size Y: 1.5542220000002267
Band Count: 1
Pixel Type: U16
RasterFunction Infos: {"rasterFunctionInfos": [{
"name": "None",
"description": "",
"help": ""
}]}
Mensuration Capabilities: Basic
Has Histograms: true
Has Colormap: false
Has Multi Dimensions : false
Rendering Rule:
Min Scale: 0
Max Scale: 0
Copyright Text: Signed: "Francis Hall Civil Engineer 23d Feby 1838"
Map, Data & GIS Library, Brock University.
Service Data Type: esriImageServiceDataTypeGeneric
Min Values: 0
Max Values: 255
Mean Values: 177.41031468388
Standard Deviation Values: 42.302793457841
Object ID Field:
Fields:
None
Default Mosaic Method: Center
Allowed Mosaic Methods:
SortField:
SortValue: null
Mosaic Operator: First
Default Compression Quality: 75
Default Resampling Method: Bilinear
Max Record Count: null
Max Image Height: 4100
Max Image Width: 15000
Max Download Image Count: null
Max Mosaic Image Count: null
Allow Raster Function: true
Allow Copy: true
Allow Analysis: true
Allow Compute TiePoints: false
Supports Statistics: false
Supports Advanced Queries: false
Use StandardizedQueries: true
Raster Type Infos:
Name: Raster Dataset
Description: Supports all ArcGIS Raster Datasets
Help:
Has Raster Attribute Table: false
Edit Fields Info: null
Ownership Based AccessControl For Rasters: null
Child Resources:
Info
Histograms
Statistics
Key Properties
Legend
Raster Function Infos
Supported Operations:
Export Image
Identify
Measure
Compute Histograms
Compute Statistics Histograms
Get Samples
Compute Class Statistics
Query Boundary
Compute Pixel Location
Compute Angles
Validate
Project