View In:
ArcGIS JavaScript
ArcGIS Online Map Viewer
ArcGIS Earth
ArcMap
View Footprint In:
ArcGIS Online Map Viewer
Service Description: Map date: 1809Includes illustration of building at 135 St. Paul Street and an advertisement for a Toronto lithographer.This map is a copy of p.58 of the 1876 edition of the Illustrated historical atlas of the Counties of Lincoln & Welland, and p.66 of the 1971 and 1984 reprints of the atlas.Digital reproduction of map (22 x 27 cm., on sheet 46 x 44 cm.) in the Brock University Map, Data & GIS Library collection.Georeferenced and modified from Brock call# G 3464 S35 G46 1809 H123 by Map, Data and GIS Library, Brock University.
Name: EarlyNiagara/StCatharines1809_
Description: Map date: 1809Includes illustration of building at 135 St. Paul Street and an advertisement for a Toronto lithographer.This map is a copy of p.58 of the 1876 edition of the Illustrated historical atlas of the Counties of Lincoln & Welland, and p.66 of the 1971 and 1984 reprints of the atlas.Digital reproduction of map (22 x 27 cm., on sheet 46 x 44 cm.) in the Brock University Map, Data & GIS Library collection.Georeferenced and modified from Brock call# G 3464 S35 G46 1809 H123 by Map, Data and GIS Library, Brock University.
Single Fused Map Cache: false
Extent:
XMin: -8823843.519432563
YMin: 5332308.4706465015
XMax: -8818901.293288562
YMax: 5337717.1070765015
Spatial Reference: 102100
(3857)
Initial Extent:
XMin: -8823843.519432563
YMin: 5332308.4706465015
XMax: -8818901.293288562
YMax: 5337717.1070765015
Spatial Reference: 102100
(3857)
Full Extent:
XMin: -8823843.519432563
YMin: 5332308.4706465015
XMax: -8818901.293288562
YMax: 5337717.1070765015
Spatial Reference: 102100
(3857)
Pixel Size X: 1.2306340000002212
Pixel Size Y: 1.2306339999999898
Band Count: 1
Pixel Type: U16
RasterFunction Infos: {"rasterFunctionInfos": [{
"name": "None",
"description": "",
"help": ""
}]}
Mensuration Capabilities: Basic
Has Histograms: false
Has Colormap: false
Has Multi Dimensions : false
Rendering Rule:
Min Scale: 0
Max Scale: 0
Copyright Text: Publisher: H.R. Page & Co.
Map, Data & GIS Library, Brock University.
Service Data Type: esriImageServiceDataTypeGeneric
Min Values: 0
Max Values: 255
Mean Values: 189.51996423346
Standard Deviation Values: 86.986966219842
Object ID Field:
Fields:
None
Default Mosaic Method: Center
Allowed Mosaic Methods:
SortField:
SortValue: null
Mosaic Operator: First
Default Compression Quality: 75
Default Resampling Method: Bilinear
Max Record Count: null
Max Image Height: 4100
Max Image Width: 15000
Max Download Image Count: null
Max Mosaic Image Count: null
Allow Raster Function: true
Allow Copy: true
Allow Analysis: true
Allow Compute TiePoints: false
Supports Statistics: false
Supports Advanced Queries: false
Use StandardizedQueries: true
Raster Type Infos:
Name: Raster Dataset
Description: Supports all ArcGIS Raster Datasets
Help:
Has Raster Attribute Table: false
Edit Fields Info: null
Ownership Based AccessControl For Rasters: null
Child Resources:
Info
Statistics
Key Properties
Legend
Raster Function Infos
Supported Operations:
Export Image
Identify
Measure
Compute Histograms
Compute Statistics Histograms
Get Samples
Compute Class Statistics
Query Boundary
Compute Pixel Location
Compute Angles
Validate
Project