View In:
ArcGIS JavaScript
ArcGIS Online Map Viewer
ArcGIS Earth
ArcMap
View Footprint In:
ArcGIS Online Map Viewer
Service Description: Historical map showing Bird's-eye view of St. Catharines with streets and hydrological features named.
Relief shown by shading.
Original map date: 1875
Digital reproduction of map in the Public Archives of Canada. National Map Collection. Library and Archives Canada.
Georeferenced and modified from NMC Map number 22769 by Map, Data and GIS Library, Brock University.
Name: EarlyNiagara/StCatharines1875
Description: Historical map showing Bird's-eye view of St. Catharines with streets and hydrological features named.
Relief shown by shading.
Original map date: 1875
Digital reproduction of map in the Public Archives of Canada. National Map Collection. Library and Archives Canada.
Georeferenced and modified from NMC Map number 22769 by Map, Data and GIS Library, Brock University.
Single Fused Map Cache: false
Extent:
XMin: 641402.378803393
YMin: 4778514.922600995
XMax: 644175.833643393
YMax: 4781885.216596995
Spatial Reference: 26917
(26917)
Initial Extent:
XMin: 641402.378803393
YMin: 4778514.922600995
XMax: 644175.833643393
YMax: 4781885.216596995
Spatial Reference: 26917
(26917)
Full Extent:
XMin: 641402.378803393
YMin: 4778514.922600995
XMax: 644175.833643393
YMax: 4781885.216596995
Spatial Reference: 26917
(26917)
Pixel Size X: 0.5203480000000038
Pixel Size Y: 0.5203479999999585
Band Count: 3
Pixel Type: U16
RasterFunction Infos: {"rasterFunctionInfos": [{
"name": "None",
"description": "",
"help": ""
}]}
Mensuration Capabilities: Basic
Has Histograms: true
Has Colormap: false
Has Multi Dimensions : false
Rendering Rule:
Min Scale: 0
Max Scale: 0
Copyright Text: Drawn by H. Brosius.
Originally published: [S.l.] : Chas. Shober & Co. prop's Chicago Lith. Co., [1875].
Reprinted by the St. Catharines Historical Museum, 1981
Map, Data & GIS Library, Brock University.
Service Data Type: esriImageServiceDataTypeGeneric
Min Values: 0, 0, 0
Max Values: 255, 255, 254
Mean Values: 178.67164529992, 175.14500325798, 144.24957152017
Standard Deviation Values: 45.216001590594, 44.131609877968, 37.595401350947
Object ID Field:
Fields:
None
Default Mosaic Method: Center
Allowed Mosaic Methods:
SortField:
SortValue: null
Mosaic Operator: First
Default Compression Quality: 75
Default Resampling Method: Bilinear
Max Record Count: null
Max Image Height: 4100
Max Image Width: 15000
Max Download Image Count: null
Max Mosaic Image Count: null
Allow Raster Function: true
Allow Copy: true
Allow Analysis: true
Allow Compute TiePoints: false
Supports Statistics: false
Supports Advanced Queries: false
Use StandardizedQueries: true
Raster Type Infos:
Name: Raster Dataset
Description: Supports all ArcGIS Raster Datasets
Help:
Has Raster Attribute Table: false
Edit Fields Info: null
Ownership Based AccessControl For Rasters: null
Child Resources:
Info
Histograms
Statistics
Key Properties
Legend
Raster Function Infos
Supported Operations:
Export Image
Identify
Measure
Compute Histograms
Compute Statistics Histograms
Get Samples
Compute Class Statistics
Query Boundary
Compute Pixel Location
Compute Angles
Validate
Project