View In:
ArcGIS JavaScript
ArcGIS Online Map Viewer
ArcGIS Earth
ArcMap
View Footprint In:
ArcGIS Online Map Viewer
Service Description: Historical map showing boundary, road and transportation features, street names and street numbers, legend.
Scale [ca. 1:8,333]
Map date: 1931
Digital reproduction of map (48 x 58 cm.) in the Brock University Map, Data & GIS Library collection.
Georeferenced and modified from Brock call# G 3464 S35 1931 M54 by Map, Data and GIS Library, Brock University.
Name: EarlyNiagara/StCatharines1931
Description: Historical map showing boundary, road and transportation features, street names and street numbers, legend.
Scale [ca. 1:8,333]
Map date: 1931
Digital reproduction of map (48 x 58 cm.) in the Brock University Map, Data & GIS Library collection.
Georeferenced and modified from Brock call# G 3464 S35 1931 M54 by Map, Data and GIS Library, Brock University.
Single Fused Map Cache: false
Extent:
XMin: 639790.9046553471
YMin: 4775740.792047956
XMax: 647158.1018173471
YMax: 4783027.943006956
Spatial Reference: 26917
(26917)
Initial Extent:
XMin: 639790.9046553471
YMin: 4775740.792047956
XMax: 647158.1018173471
YMax: 4783027.943006956
Spatial Reference: 26917
(26917)
Full Extent:
XMin: 639790.9046553471
YMin: 4775740.792047956
XMax: 647158.1018173471
YMax: 4783027.943006956
Spatial Reference: 26917
(26917)
Pixel Size X: 0.49108099999999977
Pixel Size Y: 0.49108099999999943
Band Count: 3
Pixel Type: U16
RasterFunction Infos: {"rasterFunctionInfos": [{
"name": "None",
"description": "",
"help": ""
}]}
Mensuration Capabilities: Basic
Has Histograms: true
Has Colormap: false
Has Multi Dimensions : false
Rendering Rule:
Min Scale: 0
Max Scale: 0
Copyright Text: Puslisher: Might Directories, Vernon Directories
Map, Data & GIS Library, Brock University.
Service Data Type: esriImageServiceDataTypeGeneric
Min Values: 0, 0, 0
Max Values: 255, 255, 255
Mean Values: 216.17700670811, 211.76177180235, 195.02069089778
Standard Deviation Values: 56.842020301947, 48.638814048185, 36.319847579086
Object ID Field:
Fields:
None
Default Mosaic Method: Center
Allowed Mosaic Methods:
SortField:
SortValue: null
Mosaic Operator: First
Default Compression Quality: 75
Default Resampling Method: Bilinear
Max Record Count: null
Max Image Height: 4100
Max Image Width: 15000
Max Download Image Count: null
Max Mosaic Image Count: null
Allow Raster Function: true
Allow Copy: true
Allow Analysis: true
Allow Compute TiePoints: false
Supports Statistics: false
Supports Advanced Queries: false
Use StandardizedQueries: true
Raster Type Infos:
Name: Raster Dataset
Description: Supports all ArcGIS Raster Datasets
Help:
Has Raster Attribute Table: false
Edit Fields Info: null
Ownership Based AccessControl For Rasters: null
Child Resources:
Info
Histograms
Statistics
Key Properties
Legend
Raster Function Infos
Supported Operations:
Export Image
Identify
Measure
Compute Histograms
Compute Statistics Histograms
Get Samples
Compute Class Statistics
Query Boundary
Compute Pixel Location
Compute Angles
Validate
Project