View In:
ArcGIS JavaScript
ArcGIS Online Map Viewer
ArcGIS Earth
ArcMap
View Footprint In:
ArcGIS Online Map Viewer
Service Description: Historical map showing "approx. site of Church 1796-1835" and approximate limits of church property, with street names identified..
Subtitle: Plan showing location of original site of the first church, built about the year 1796.
Scale [ca. 1:579]
Map date: 1935
Reproduction of map (35 x 45 cm.) in Map, Data and GIS Library's historical map collection.
Georeferenced and modified from Brock call # G 3464 S35 1796 H65 by Map, Data and GIS Library, Brock University.
Name: EarlyNiagara/StCatharines1935StGeorges
Description: Historical map showing "approx. site of Church 1796-1835" and approximate limits of church property, with street names identified..
Subtitle: Plan showing location of original site of the first church, built about the year 1796.
Scale [ca. 1:579]
Map date: 1935
Reproduction of map (35 x 45 cm.) in Map, Data and GIS Library's historical map collection.
Georeferenced and modified from Brock call # G 3464 S35 1796 H65 by Map, Data and GIS Library, Brock University.
Single Fused Map Cache: true
Tile Info:
- Height: 256
- Width: 256
- DPI: 96
-
Levels of Detail: 20
-
Level ID: 1
[ Start Tile, End Tile ]
- Resolution: 78271.5169639999
- Scale: 2.95828763795777E8
-
Level ID: 2
[ Start Tile, End Tile ]
- Resolution: 39135.7584820001
- Scale: 1.47914381897889E8
-
Level ID: 3
[ Start Tile, End Tile ]
- Resolution: 19567.8792409999
- Scale: 7.3957190948944E7
-
Level ID: 4
[ Start Tile, End Tile ]
- Resolution: 9783.93962049996
- Scale: 3.6978595474472E7
-
Level ID: 5
[ Start Tile, End Tile ]
- Resolution: 4891.96981024998
- Scale: 1.8489297737236E7
- Format: MIXED
- Compression Quality: 75.0
- LERC Error: NaN
- Origin: X: -2.0037508342787E7
Y: 2.0037508342787E7
- Spatial Reference: 102100
(3857)
Storage Info:
- Storage Format: esriMapCacheStorageModeCompactV2
- Packet Size: 128
Extent:
XMin: -8821951.259752737
YMin: 5335068.278603194
XMax: -8821295.974068256
YMax: 5335812.024461674
Spatial Reference: 102100
(3857)
Initial Extent:
XMin: -8821951.259752737
YMin: 5335068.278603194
XMax: -8821295.974068256
YMax: 5335812.024461674
Spatial Reference: 102100
(3857)
Full Extent:
XMin: -8821951.259752737
YMin: 5335068.278603194
XMax: -8821295.974068256
YMax: 5335812.024461674
Spatial Reference: 102100
(3857)
Pixel Size X: 0.05292400000000646
Pixel Size Y: 0.05292400000004183
Band Count: 1
Pixel Type: U16
RasterFunction Infos: {"rasterFunctionInfos": [{
"name": "None",
"description": "",
"help": ""
}]}
Mensuration Capabilities: Basic
Has Histograms: true
Has Colormap: false
Has Multi Dimensions : false
Rendering Rule:
Min Scale: 9027.977411
Max Scale: 1128.497176
Copyright Text: Made by E.O. Holt.
Map, Data & GIS Library, Brock University.
Service Data Type: esriImageServiceDataTypeGeneric
Min Values: 0
Max Values: 255
Mean Values: 187.91685690982
Standard Deviation Values: 43.368912661294
Object ID Field:
Fields:
None
Default Mosaic Method: Center
Allowed Mosaic Methods:
SortField:
SortValue: null
Mosaic Operator: First
Default Compression Quality: 75
Default Resampling Method: Bilinear
Max Record Count: null
Max Image Height: 4100
Max Image Width: 15000
Max Download Image Count: null
Max Mosaic Image Count: null
Allow Raster Function: true
Allow Copy: true
Allow Analysis: true
Allow Compute TiePoints: false
Supports Statistics: false
Supports Advanced Queries: false
Use StandardizedQueries: true
Raster Type Infos:
Name: Raster Dataset
Description: Supports all ArcGIS Raster Datasets
Help:
Has Raster Attribute Table: false
Edit Fields Info: null
Ownership Based AccessControl For Rasters: null
Child Resources:
Info
Histograms
Statistics
Key Properties
Legend
Raster Function Infos
Supported Operations:
Export Image
Identify
Measure
Compute Histograms
Compute Statistics Histograms
Get Samples
Compute Class Statistics
Query Boundary
Compute Pixel Location
Compute Angles
Validate
Project