View In:
ArcGIS JavaScript
ArcGIS Online Map Viewer
ArcGIS Earth
ArcMap
View Footprint In:
ArcGIS Online Map Viewer
Service Description: Map date: 1939?
Scale [ca. 1:1,230]
Digital reproduction of map (62 x 114 cm.) in the Public Archives of Canada. National Map Collection. Library and Archives Canada.
Georeferenced and modified from Brock call # G 3464 S35 G45 1939 B85, by Map, Data and GIS Library, Brock University.
Name: EarlyNiagara/StCatharines1939
Description: Map date: 1939?
Scale [ca. 1:1,230]
Digital reproduction of map (62 x 114 cm.) in the Public Archives of Canada. National Map Collection. Library and Archives Canada.
Georeferenced and modified from Brock call # G 3464 S35 G45 1939 B85, by Map, Data and GIS Library, Brock University.
Single Fused Map Cache: false
Extent:
XMin: -8822526.392240293
YMin: 5335426.32395797
XMax: -8820506.491920294
YMax: 5337635.79688997
Spatial Reference: 102100
(3857)
Initial Extent:
XMin: -8822526.392240293
YMin: 5335426.32395797
XMax: -8820506.491920294
YMax: 5337635.79688997
Spatial Reference: 102100
(3857)
Full Extent:
XMin: -8822526.392240293
YMin: 5335426.32395797
XMax: -8820506.491920294
YMax: 5337635.79688997
Spatial Reference: 102100
(3857)
Pixel Size X: 0.20695699999990613
Pixel Size Y: 0.20695699999997313
Band Count: 3
Pixel Type: U16
RasterFunction Infos: {"rasterFunctionInfos": [{
"name": "None",
"description": "",
"help": ""
}]}
Mensuration Capabilities: Basic
Has Histograms: false
Has Colormap: false
Has Multi Dimensions : false
Rendering Rule:
Min Scale: 0
Max Scale: 0
Copyright Text: Author unknown
Map, Data & GIS Library, Brock University.
Service Data Type: esriImageServiceDataTypeGeneric
Min Values: 0, 0, 0
Max Values: 254, 254, 254
Mean Values: 210.53595981022, 173.38762770099, 140.51237277245
Standard Deviation Values: 14.852546682165, 13.273580735309, 11.953111754774
Object ID Field:
Fields:
None
Default Mosaic Method: Center
Allowed Mosaic Methods:
SortField:
SortValue: null
Mosaic Operator: First
Default Compression Quality: 75
Default Resampling Method: Bilinear
Max Record Count: null
Max Image Height: 4100
Max Image Width: 15000
Max Download Image Count: null
Max Mosaic Image Count: null
Allow Raster Function: true
Allow Copy: true
Allow Analysis: true
Allow Compute TiePoints: false
Supports Statistics: false
Supports Advanced Queries: false
Use StandardizedQueries: true
Raster Type Infos:
Name: Raster Dataset
Description: Supports all ArcGIS Raster Datasets
Help:
Has Raster Attribute Table: false
Edit Fields Info: null
Ownership Based AccessControl For Rasters: null
Child Resources:
Info
Statistics
Key Properties
Legend
Raster Function Infos
Supported Operations:
Export Image
Identify
Measure
Compute Histograms
Compute Statistics Histograms
Get Samples
Compute Class Statistics
Query Boundary
Compute Pixel Location
Compute Angles
Validate
Project