View In:
ArcGIS JavaScript
ArcGIS Online Map Viewer
ArcGIS Earth
ArcMap
View Footprint In:
ArcGIS Online Map Viewer
Service Description: Historical map showing boundary, transportation and cultural features, index to street names and places of interest, legend.
Scale [ca. 1:13,593]
Map date: [1952]
Digital reproduction of map (52 x 70 cm.) in the Brock University Map, Data & GIS Library collection.
Georeferenced and modified from Brock call# G 3464 S35 1952 G73 by Map, Data and GIS Library, Brock University.
Name: EarlyNiagara/StCatharines1952
Description: Historical map showing boundary, transportation and cultural features, index to street names and places of interest, legend.
Scale [ca. 1:13,593]
Map date: [1952]
Digital reproduction of map (52 x 70 cm.) in the Brock University Map, Data & GIS Library collection.
Georeferenced and modified from Brock call# G 3464 S35 1952 G73 by Map, Data and GIS Library, Brock University.
Single Fused Map Cache: false
Extent:
XMin: 637500.6532100254
YMin: 4773434.670731628
XMax: 649812.3324520254
YMax: 4784547.338817628
Spatial Reference: 26917
(26917)
Initial Extent:
XMin: 637500.6532100254
YMin: 4773434.670731628
XMax: 649812.3324520254
YMax: 4784547.338817628
Spatial Reference: 26917
(26917)
Full Extent:
XMin: 637500.6532100254
YMin: 4773434.670731628
XMax: 649812.3324520254
YMax: 4784547.338817628
Spatial Reference: 26917
(26917)
Pixel Size X: 0.807958999999999
Pixel Size Y: 0.8079589999999846
Band Count: 1
Pixel Type: U16
RasterFunction Infos: {"rasterFunctionInfos": [{
"name": "None",
"description": "",
"help": ""
}]}
Mensuration Capabilities: Basic
Has Histograms: true
Has Colormap: false
Has Multi Dimensions : false
Rendering Rule:
Min Scale: 0
Max Scale: 0
Copyright Text: Drawn exclusively for Graphic Publishers
Map, Data & GIS Library, Brock University.
Service Data Type: esriImageServiceDataTypeGeneric
Min Values: 0
Max Values: 255
Mean Values: 215.17115492426
Standard Deviation Values: 81.219002095656
Object ID Field:
Fields:
None
Default Mosaic Method: Center
Allowed Mosaic Methods:
SortField:
SortValue: null
Mosaic Operator: First
Default Compression Quality: 75
Default Resampling Method: Bilinear
Max Record Count: null
Max Image Height: 4100
Max Image Width: 15000
Max Download Image Count: null
Max Mosaic Image Count: null
Allow Raster Function: true
Allow Copy: true
Allow Analysis: true
Allow Compute TiePoints: false
Supports Statistics: false
Supports Advanced Queries: false
Use StandardizedQueries: true
Raster Type Infos:
Name: Raster Dataset
Description: Supports all ArcGIS Raster Datasets
Help:
Has Raster Attribute Table: false
Edit Fields Info: null
Ownership Based AccessControl For Rasters: null
Child Resources:
Info
Histograms
Statistics
Key Properties
Legend
Raster Function Infos
Supported Operations:
Export Image
Identify
Measure
Compute Histograms
Compute Statistics Histograms
Get Samples
Compute Class Statistics
Query Boundary
Compute Pixel Location
Compute Angles
Validate
Project