View In:
ArcGIS JavaScript
ArcGIS Online Map Viewer
ArcGIS Earth
ArcMap
View Footprint In:
ArcGIS Online Map Viewer
Service Description: Maps showing land use features, residential, commercial, industrial, institutional, park & open spaces, urbanized areas, boundaries, legend. Titles and sizes vary.
Name: EarlyNiagara/StCatharinesLandUse1974
Description: Maps showing land use features, residential, commercial, industrial, institutional, park & open spaces, urbanized areas, boundaries, legend. Titles and sizes vary.
Single Fused Map Cache: false
Extent:
XMin: 636062.2579730179
YMin: 4772823.434545314
XMax: 649424.6837053493
YMax: 4790578.424452112
Spatial Reference: 26917
(26917)
Initial Extent:
XMin: 636062.2579730179
YMin: 4772823.434545314
XMax: 649424.6837053493
YMax: 4790578.424452112
Spatial Reference: 26917
(26917)
Full Extent:
XMin: 636062.2579730179
YMin: 4772823.434545314
XMax: 649424.6837053493
YMax: 4790578.424452112
Spatial Reference: 26917
(26917)
Pixel Size X: 0.5257692595841615
Pixel Size Y: 0.5141455971620802
Band Count: 1
Pixel Type: U8
RasterFunction Infos: {"rasterFunctionInfos": [{
"name": "None",
"description": "",
"help": ""
}]}
Mensuration Capabilities: Basic
Has Histograms: true
Has Colormap: false
Has Multi Dimensions : false
Rendering Rule:
Min Scale: 0
Max Scale: 0
Copyright Text: Brock University Map, Data & GIS Library
Service Data Type: esriImageServiceDataTypeGeneric
Min Values: 0
Max Values: 255
Mean Values: 236.57585456541
Standard Deviation Values: 43.343998795112
Object ID Field:
Fields:
None
Default Mosaic Method: Center
Allowed Mosaic Methods:
SortField:
SortValue: null
Mosaic Operator: First
Default Compression Quality: 75
Default Resampling Method: Bilinear
Max Record Count: null
Max Image Height: 4100
Max Image Width: 15000
Max Download Image Count: null
Max Mosaic Image Count: null
Allow Raster Function: true
Allow Copy: true
Allow Analysis: true
Allow Compute TiePoints: false
Supports Statistics: false
Supports Advanced Queries: false
Use StandardizedQueries: true
Raster Type Infos:
Name: Raster Dataset
Description: Supports all ArcGIS Raster Datasets
Help:
Has Raster Attribute Table: false
Edit Fields Info: null
Ownership Based AccessControl For Rasters: null
Child Resources:
Info
Histograms
Statistics
Key Properties
Legend
Raster Function Infos
Supported Operations:
Export Image
Identify
Measure
Compute Histograms
Compute Statistics Histograms
Get Samples
Compute Class Statistics
Query Boundary
Compute Pixel Location
Compute Angles
Validate
Project