View In:
ArcGIS JavaScript
ArcGIS Online Map Viewer
ArcGIS Earth
ArcMap
View Footprint In:
ArcGIS Online Map Viewer
Service Description: Historical map showing street index, business directory, places of interest, miscellaneous and highway information, advertisements.
Scale [1:21,120]
Map date: 1959
Digital reproduction of map (85 x 65 cm.) in the Brock University Map, Data & GIS Library collection.
Georeferenced and modified from Brock call# G 3464 S35 1959 M37 by Map, Data and GIS Library, Brock University.
Name: EarlyNiagara/StCatharinesMasterMap1959
Description: Historical map showing street index, business directory, places of interest, miscellaneous and highway information, advertisements.
Scale [1:21,120]
Map date: 1959
Digital reproduction of map (85 x 65 cm.) in the Brock University Map, Data & GIS Library collection.
Georeferenced and modified from Brock call# G 3464 S35 1959 M37 by Map, Data and GIS Library, Brock University.
Single Fused Map Cache: false
Extent:
XMin: 635494.4848120693
YMin: 4771231.558138626
XMax: 649542.0493920693
YMax: 4790361.919416626
Spatial Reference: 26917
(26917)
Initial Extent:
XMin: 635494.4848120693
YMin: 4771231.558138626
XMax: 649542.0493920693
YMax: 4790361.919416626
Spatial Reference: 26917
(26917)
Full Extent:
XMin: 635494.4848120693
YMin: 4771231.558138626
XMax: 649542.0493920693
YMax: 4790361.919416626
Spatial Reference: 26917
(26917)
Pixel Size X: 0.9104060000000004
Pixel Size Y: 0.9104060000000137
Band Count: 3
Pixel Type: U16
RasterFunction Infos: {"rasterFunctionInfos": [{
"name": "None",
"description": "",
"help": ""
}]}
Mensuration Capabilities: Basic
Has Histograms: false
Has Colormap: false
Has Multi Dimensions : false
Rendering Rule:
Min Scale: 0
Max Scale: 0
Copyright Text: Master Advertising Co. (Toronto, Ont.)
Map, Data & GIS Library, Brock University.
Service Data Type: esriImageServiceDataTypeGeneric
Min Values: N/A
Max Values: N/A
Mean Values: N/A
Standard Deviation Values: N/A
Object ID Field:
Fields:
None
Default Mosaic Method: Center
Allowed Mosaic Methods:
SortField:
SortValue: null
Mosaic Operator: First
Default Compression Quality: 75
Default Resampling Method: Bilinear
Max Record Count: null
Max Image Height: 4100
Max Image Width: 15000
Max Download Image Count: null
Max Mosaic Image Count: null
Allow Raster Function: true
Allow Copy: true
Allow Analysis: true
Allow Compute TiePoints: false
Supports Statistics: false
Supports Advanced Queries: false
Use StandardizedQueries: true
Raster Type Infos:
Name: Raster Dataset
Description: Supports all ArcGIS Raster Datasets
Help:
Has Raster Attribute Table: false
Edit Fields Info: null
Ownership Based AccessControl For Rasters: null
Child Resources:
Info
Statistics
Key Properties
Legend
Raster Function Infos
Supported Operations:
Export Image
Identify
Measure
Compute Histograms
Compute Statistics Histograms
Get Samples
Compute Class Statistics
Query Boundary
Compute Pixel Location
Compute Angles
Validate
Project