View In:
ArcGIS JavaScript
ArcGIS Online Map Viewer
ArcGIS Earth
ArcMap
View Footprint In:
ArcGIS Online Map Viewer
Service Description: Historical map showing residential density (population per net acre), roads, transportation and hydrological features.
Scale: 1000 feet = 1 inch
Digital reproduction of map (88 x 95 cm.) in the Brock University Map, Data & GIS Library collection.
Georeferenced and modified from Brock call# G 3464 S35 G44 1961 by Map, Data and GIS Library, Brock University.
Name: EarlyNiagara/StCatharinesResidentialDensity1961
Description: Historical map showing residential density (population per net acre), roads, transportation and hydrological features.
Scale: 1000 feet = 1 inch
Digital reproduction of map (88 x 95 cm.) in the Brock University Map, Data & GIS Library collection.
Georeferenced and modified from Brock call# G 3464 S35 G44 1961 by Map, Data and GIS Library, Brock University.
Single Fused Map Cache: false
Extent:
XMin: 634795.148343343
YMin: 4773456.247915183
XMax: 651198.147557343
YMax: 4788863.510663183
Spatial Reference: 26917
(26917)
Initial Extent:
XMin: 634795.148343343
YMin: 4773456.247915183
XMax: 651198.147557343
YMax: 4788863.510663183
Spatial Reference: 26917
(26917)
Full Extent:
XMin: 634795.148343343
YMin: 4773456.247915183
XMax: 651198.147557343
YMax: 4788863.510663183
Spatial Reference: 26917
(26917)
Pixel Size X: 2.1321979999999936
Pixel Size Y: 2.132198000000029
Band Count: 1
Pixel Type: U16
RasterFunction Infos: {"rasterFunctionInfos": [{
"name": "None",
"description": "",
"help": ""
}]}
Mensuration Capabilities: Basic
Has Histograms: false
Has Colormap: false
Has Multi Dimensions : false
Rendering Rule:
Min Scale: 0
Max Scale: 0
Copyright Text: Drawn by S. Nagel, Map, Data & GIS Library, Brock University.
Service Data Type: esriImageServiceDataTypeGeneric
Min Values: N/A
Max Values: N/A
Mean Values: N/A
Standard Deviation Values: N/A
Object ID Field:
Fields:
None
Default Mosaic Method: Center
Allowed Mosaic Methods:
SortField:
SortValue: null
Mosaic Operator: First
Default Compression Quality: 75
Default Resampling Method: Bilinear
Max Record Count: null
Max Image Height: 4100
Max Image Width: 15000
Max Download Image Count: null
Max Mosaic Image Count: null
Allow Raster Function: true
Allow Copy: true
Allow Analysis: true
Allow Compute TiePoints: false
Supports Statistics: false
Supports Advanced Queries: false
Use StandardizedQueries: true
Raster Type Infos:
Name: Raster Dataset
Description: Supports all ArcGIS Raster Datasets
Help:
Has Raster Attribute Table: false
Edit Fields Info: null
Ownership Based AccessControl For Rasters: null
Child Resources:
Info
Statistics
Key Properties
Legend
Raster Function Infos
Supported Operations:
Export Image
Identify
Measure
Compute Histograms
Compute Statistics Histograms
Get Samples
Compute Class Statistics
Query Boundary
Compute Pixel Location
Compute Angles
Validate
Project