View In:
ArcGIS JavaScript
ArcGIS Online Map Viewer
ArcGIS Earth
ArcMap
View Footprint In:
ArcGIS Online Map Viewer
Service Description: Maps showing the evolution from 1926 to 1936, population, urban growth, note, legend.
Scale [ca.1:10,359]
Map date: [1959?]
Digital reproduction of map (57 x 72 cm.) in the Brock University Map, Data & GIS Library collection.
Georeferenced and modified from Brock call# G 3464 S35 S1 1959 E86 by Map, Data and GIS Library, Brock University.
Name: EarlyNiagara/StCatharinesevolution19261936
Description: Maps showing the evolution from 1926 to 1936, population, urban growth, note, legend.
Scale [ca.1:10,359]
Map date: [1959?]
Digital reproduction of map (57 x 72 cm.) in the Brock University Map, Data & GIS Library collection.
Georeferenced and modified from Brock call# G 3464 S35 S1 1959 E86 by Map, Data and GIS Library, Brock University.
Single Fused Map Cache: false
Extent:
XMin: 638621.982954515
YMin: 4774913.448739343
XMax: 649329.941522515
YMax: 4784596.042563343
Spatial Reference: 26917
(26917)
Initial Extent:
XMin: 638621.982954515
YMin: 4774913.448739343
XMax: 649329.941522515
YMax: 4784596.042563343
Spatial Reference: 26917
(26917)
Full Extent:
XMin: 638621.982954515
YMin: 4774913.448739343
XMax: 649329.941522515
YMax: 4784596.042563343
Spatial Reference: 26917
(26917)
Pixel Size X: 1.4065360000000002
Pixel Size Y: 1.4065360000000142
Band Count: 1
Pixel Type: U16
RasterFunction Infos: {"rasterFunctionInfos": [{
"name": "None",
"description": "",
"help": ""
}]}
Mensuration Capabilities: Basic
Has Histograms: true
Has Colormap: false
Has Multi Dimensions : false
Rendering Rule:
Min Scale: 0
Max Scale: 0
Copyright Text: Information compiled by E. Tweed
Drawing by M.J. Servos
Published St. Catharines Planning and Development Services.
Map, Data & GIS Library, Brock University.
Service Data Type: esriImageServiceDataTypeGeneric
Min Values: 0
Max Values: 255
Mean Values: 230.5303211172
Standard Deviation Values: 61.750603582231
Object ID Field:
Fields:
None
Default Mosaic Method: Center
Allowed Mosaic Methods:
SortField:
SortValue: null
Mosaic Operator: First
Default Compression Quality: 75
Default Resampling Method: Bilinear
Max Record Count: null
Max Image Height: 4100
Max Image Width: 15000
Max Download Image Count: null
Max Mosaic Image Count: null
Allow Raster Function: true
Allow Copy: true
Allow Analysis: true
Allow Compute TiePoints: false
Supports Statistics: false
Supports Advanced Queries: false
Use StandardizedQueries: true
Raster Type Infos:
Name: Raster Dataset
Description: Supports all ArcGIS Raster Datasets
Help:
Has Raster Attribute Table: false
Edit Fields Info: null
Ownership Based AccessControl For Rasters: null
Child Resources:
Info
Histograms
Statistics
Key Properties
Legend
Raster Function Infos
Supported Operations:
Export Image
Identify
Measure
Compute Histograms
Compute Statistics Histograms
Get Samples
Compute Class Statistics
Query Boundary
Compute Pixel Location
Compute Angles
Validate
Project