View In:
ArcGIS JavaScript
ArcGIS Online Map Viewer
ArcGIS Earth
ArcMap
View Footprint In:
ArcGIS Online Map Viewer
Service Description: EarlyNiagara/Wainfleet_1850_tif
Name: EarlyNiagara/Wainfleet_1850_tif
Description:
Single Fused Map Cache: false
Extent:
XMin: 610138.0129356459
YMin: 4743333.777729048
XMax: 647537.2076566907
YMax: 4766446.235262565
Spatial Reference: 26917
(26917)
Initial Extent:
XMin: 610138.0129356459
YMin: 4743333.777729048
XMax: 647537.2076566907
YMax: 4766446.235262565
Spatial Reference: 26917
(26917)
Full Extent:
XMin: 610138.0129356459
YMin: 4743333.777729048
XMax: 647537.2076566907
YMax: 4766446.235262565
Spatial Reference: 26917
(26917)
Pixel Size X: 3.483531550022807
Pixel Size Y: 7.896295706702057
Band Count: 1
Pixel Type: U8
RasterFunction Infos: {"rasterFunctionInfos": [{
"name": "None",
"description": "",
"help": ""
}]}
Mensuration Capabilities: Basic
Has Histograms: true
Has Colormap: false
Has Multi Dimensions : false
Rendering Rule:
Min Scale: 0
Max Scale: 0
Copyright Text:
Service Data Type: esriImageServiceDataTypeGeneric
Min Values: 0
Max Values: 255
Mean Values: 180.20510524482
Standard Deviation Values: 49.754950801621
Object ID Field:
Fields:
None
Default Mosaic Method: Center
Allowed Mosaic Methods:
SortField:
SortValue: null
Mosaic Operator: First
Default Compression Quality: 75
Default Resampling Method: Bilinear
Max Record Count: null
Max Image Height: 4100
Max Image Width: 15000
Max Download Image Count: null
Max Mosaic Image Count: null
Allow Raster Function: true
Allow Copy: true
Allow Analysis: true
Allow Compute TiePoints: false
Supports Statistics: false
Supports Advanced Queries: false
Use StandardizedQueries: true
Raster Type Infos:
Name: Raster Dataset
Description: Supports all ArcGIS Raster Datasets
Help:
Has Raster Attribute Table: false
Edit Fields Info: null
Ownership Based AccessControl For Rasters: null
Child Resources:
Info
Histograms
Statistics
Key Properties
Legend
Raster Function Infos
Supported Operations:
Export Image
Identify
Measure
Compute Histograms
Compute Statistics Histograms
Get Samples
Compute Class Statistics
Query Boundary
Compute Pixel Location
Compute Angles
Validate
Project