View In:
ArcGIS JavaScript
ArcGIS Online Map Viewer
ArcGIS Earth
ArcMap
View Footprint In:
ArcGIS Online Map Viewer
Service Description: Map date: 1876. Scale 6 chains to 1 inch. Digital reproduction of map on page 74-75 of Illustrated historical atlas of the counties of Lincoln and Welland, Ont., Toronto : H.R. Page, 1876. Georeferenced and modified by Map, Data and GIS Library, Brock University.
Name: EarlyNiagara/Welland1876
Description: Map date: 1876. Scale 6 chains to 1 inch. Digital reproduction of map on page 74-75 of Illustrated historical atlas of the counties of Lincoln and Welland, Ont., Toronto : H.R. Page, 1876. Georeferenced and modified by Map, Data and GIS Library, Brock University.
Single Fused Map Cache: false
Extent:
XMin: -8823376.716299778
YMin: 5308696.142253991
XMax: -8820410.591636777
YMax: 5312744.059626991
Spatial Reference: 102100
(3857)
Initial Extent:
XMin: -8823376.716299778
YMin: 5308696.142253991
XMax: -8820410.591636777
YMax: 5312744.059626991
Spatial Reference: 102100
(3857)
Full Extent:
XMin: -8823376.716299778
YMin: 5308696.142253991
XMax: -8820410.591636777
YMax: 5312744.059626991
Spatial Reference: 102100
(3857)
Pixel Size X: 0.2795330000000873
Pixel Size Y: 0.27953299999998016
Band Count: 1
Pixel Type: U16
RasterFunction Infos: {"rasterFunctionInfos": [{
"name": "None",
"description": "",
"help": ""
}]}
Mensuration Capabilities: Basic
Has Histograms: false
Has Colormap: false
Has Multi Dimensions : false
Rendering Rule:
Min Scale: 0
Max Scale: 0
Copyright Text: "By Henry T. Ross."
Published by H.R. Page & Co.
Map, Data & GIS Library, Brock University.
Service Data Type: esriImageServiceDataTypeGeneric
Min Values: 0
Max Values: 255
Mean Values: 218.63464729255
Standard Deviation Values: 50.028603172932
Object ID Field:
Fields:
None
Default Mosaic Method: Center
Allowed Mosaic Methods:
SortField:
SortValue: null
Mosaic Operator: First
Default Compression Quality: 75
Default Resampling Method: Bilinear
Max Record Count: null
Max Image Height: 4100
Max Image Width: 15000
Max Download Image Count: null
Max Mosaic Image Count: null
Allow Raster Function: true
Allow Copy: true
Allow Analysis: true
Allow Compute TiePoints: false
Supports Statistics: false
Supports Advanced Queries: false
Use StandardizedQueries: true
Raster Type Infos:
Name: Raster Dataset
Description: Supports all ArcGIS Raster Datasets
Help:
Has Raster Attribute Table: false
Edit Fields Info: null
Ownership Based AccessControl For Rasters: null
Child Resources:
Info
Statistics
Key Properties
Legend
Raster Function Infos
Supported Operations:
Export Image
Identify
Measure
Compute Histograms
Compute Statistics Histograms
Get Samples
Compute Class Statistics
Query Boundary
Compute Pixel Location
Compute Angles
Validate
Project