View In:
ArcGIS JavaScript
ArcGIS Online Map Viewer
ArcGIS Earth
ArcMap
View Footprint In:
ArcGIS Online Map Viewer
Service Description: Historical map showing the First and Second Welland Canal, locks, lift elevations, townships, roads, towing paths and bridges.
Digital reproduction of map (59 x 549 cm.) in the Public Archives of Canada. National Map Collection. Library and Archives Canada.
Relief shown by shading.
Georeferenced and modified from LAC e011168620 by Map, Data and GIS Library, Brock University.
Name: EarlyNiagara/WellandCanal1837NMC11848col8
Description: Historical map showing the First and Second Welland Canal, locks, lift elevations, townships, roads, towing paths and bridges.
Digital reproduction of map (59 x 549 cm.) in the Public Archives of Canada. National Map Collection. Library and Archives Canada.
Relief shown by shading.
Georeferenced and modified from LAC e011168620 by Map, Data and GIS Library, Brock University.
Single Fused Map Cache: false
Extent:
XMin: 642657.1618767998
YMin: 4774239.716824154
XMax: 647283.6794507998
YMax: 4779407.156632154
Spatial Reference: 26917
(26917)
Initial Extent:
XMin: 642657.1618767998
YMin: 4774239.716824154
XMax: 647283.6794507998
YMax: 4779407.156632154
Spatial Reference: 26917
(26917)
Full Extent:
XMin: 642657.1618767998
YMin: 4774239.716824154
XMax: 647283.6794507998
YMax: 4779407.156632154
Spatial Reference: 26917
(26917)
Pixel Size X: 0.8824180000000107
Pixel Size Y: 0.8824179999999794
Band Count: 3
Pixel Type: U16
RasterFunction Infos: {"rasterFunctionInfos": [{
"name": "None",
"description": "",
"help": ""
}]}
Mensuration Capabilities: Basic
Has Histograms: true
Has Colormap: false
Has Multi Dimensions : false
Rendering Rule:
Min Scale: 0
Max Scale: 0
Copyright Text: Map, Data & GIS Library, Brock University.
Service Data Type: esriImageServiceDataTypeGeneric
Min Values: 32, 36, 34
Max Values: 252, 237, 222
Mean Values: 218.70875760614, 191.37135316874, 153.42001921731
Standard Deviation Values: 21.178826689693, 18.615321087418, 15.069362497854
Object ID Field:
Fields:
None
Default Mosaic Method: Center
Allowed Mosaic Methods:
SortField:
SortValue: null
Mosaic Operator: First
Default Compression Quality: 75
Default Resampling Method: Bilinear
Max Record Count: null
Max Image Height: 4100
Max Image Width: 15000
Max Download Image Count: null
Max Mosaic Image Count: null
Allow Raster Function: true
Allow Copy: true
Allow Analysis: true
Allow Compute TiePoints: false
Supports Statistics: false
Supports Advanced Queries: false
Use StandardizedQueries: true
Raster Type Infos:
Name: Raster Dataset
Description: Supports all ArcGIS Raster Datasets
Help:
Has Raster Attribute Table: false
Edit Fields Info: null
Ownership Based AccessControl For Rasters: null
Child Resources:
Info
Histograms
Statistics
Key Properties
Legend
Raster Function Infos
Supported Operations:
Export Image
Identify
Measure
Compute Histograms
Compute Statistics Histograms
Get Samples
Compute Class Statistics
Query Boundary
Compute Pixel Location
Compute Angles
Validate
Project