View In:
ArcGIS JavaScript
ArcGIS Online Map Viewer
ArcGIS Earth
ArcMap
View Footprint In:
ArcGIS Online Map Viewer
Service Description: Historical map showing the First Welland Canal from the 22nd to 4th locks, major roads. Includes deviations proposed for schooner navigation and steam boats, location of locks, raceways and supply ponds, some mills and names of land ownership along the proposed routes. Deviations proposed for the Second Welland Canal, by N.H. Baird, H.H. Killaly and George Phillpotts.
Relief shown by shading
Scale [ca. 1:3,168]
Map date: 1840
Title with corrected spelling: Plan of a part of the line of the Welland Canal showing the intended deviation between St. Catharines and Thorold
Digital reproduction of map in the Public Archives of Canada. National Map Collection. Library and Archives Canada.
Georeferenced and modified from NMC Map number 34150 by Map, Data and GIS Library, Brock University.
Name: EarlyNiagara/WellandCanal1840NMC34150part1
Description: Historical map showing the First Welland Canal from the 22nd to 4th locks, major roads. Includes deviations proposed for schooner navigation and steam boats, location of locks, raceways and supply ponds, some mills and names of land ownership along the proposed routes. Deviations proposed for the Second Welland Canal, by N.H. Baird, H.H. Killaly and George Phillpotts.
Relief shown by shading
Scale [ca. 1:3,168]
Map date: 1840
Title with corrected spelling: Plan of a part of the line of the Welland Canal showing the intended deviation between St. Catharines and Thorold
Digital reproduction of map in the Public Archives of Canada. National Map Collection. Library and Archives Canada.
Georeferenced and modified from NMC Map number 34150 by Map, Data and GIS Library, Brock University.
Single Fused Map Cache: false
Extent:
XMin: 644638.3473372367
YMin: 4776221.533800114
XMax: 647445.1169912367
YMax: 4779321.070812114
Spatial Reference: 26917
(26917)
Initial Extent:
XMin: 644638.3473372367
YMin: 4776221.533800114
XMax: 647445.1169912367
YMax: 4779321.070812114
Spatial Reference: 26917
(26917)
Full Extent:
XMin: 644638.3473372367
YMin: 4776221.533800114
XMax: 647445.1169912367
YMax: 4779321.070812114
Spatial Reference: 26917
(26917)
Pixel Size X: 0.49960299999999025
Pixel Size Y: 0.49960299999994146
Band Count: 1
Pixel Type: U16
RasterFunction Infos: {"rasterFunctionInfos": [{
"name": "None",
"description": "",
"help": ""
}]}
Mensuration Capabilities: Basic
Has Histograms: true
Has Colormap: false
Has Multi Dimensions : false
Rendering Rule:
Min Scale: 0
Max Scale: 0
Copyright Text: By N.H. Baird, H.H. Killaly and George Phillpotts
Map, Data & GIS Library, Brock University.
Service Data Type: esriImageServiceDataTypeGeneric
Min Values: 15
Max Values: 255
Mean Values: 183.85628446745
Standard Deviation Values: 27.715550196372
Object ID Field:
Fields:
None
Default Mosaic Method: Center
Allowed Mosaic Methods:
SortField:
SortValue: null
Mosaic Operator: First
Default Compression Quality: 75
Default Resampling Method: Bilinear
Max Record Count: null
Max Image Height: 4100
Max Image Width: 15000
Max Download Image Count: null
Max Mosaic Image Count: null
Allow Raster Function: true
Allow Copy: true
Allow Analysis: true
Allow Compute TiePoints: false
Supports Statistics: false
Supports Advanced Queries: false
Use StandardizedQueries: true
Raster Type Infos:
Name: Raster Dataset
Description: Supports all ArcGIS Raster Datasets
Help:
Has Raster Attribute Table: false
Edit Fields Info: null
Ownership Based AccessControl For Rasters: null
Child Resources:
Info
Histograms
Statistics
Key Properties
Legend
Raster Function Infos
Supported Operations:
Export Image
Identify
Measure
Compute Histograms
Compute Statistics Histograms
Get Samples
Compute Class Statistics
Query Boundary
Compute Pixel Location
Compute Angles
Validate
Project