View In:
ArcGIS JavaScript
ArcGIS Online Map Viewer
ArcGIS Earth
ArcMap
View Footprint In:
ArcGIS Online Map Viewer
Service Description: Welland Canal topographical map 1873, Thomas Monroe
Name: EarlyNiagara/WellandCanal1873topomap_e0111686091
Description: Welland Canal topographical map 1873, Thomas Monroe
Single Fused Map Cache: false
Extent:
XMin: 636544.2480709279
YMin: 4773063.2228871
XMax: 651842.3142889279
YMax: 4787671.3813251
Spatial Reference: 26917
(26917)
Initial Extent:
XMin: 636544.2480709279
YMin: 4773063.2228871
XMax: 651842.3142889279
YMax: 4787671.3813251
Spatial Reference: 26917
(26917)
Full Extent:
XMin: 636544.2480709279
YMin: 4773063.2228871
XMax: 651842.3142889279
YMax: 4787671.3813251
Spatial Reference: 26917
(26917)
Pixel Size X: 1.2776070000000017
Pixel Size Y: 1.277606999999991
Band Count: 3
Pixel Type: U16
RasterFunction Infos: {"rasterFunctionInfos": [{
"name": "None",
"description": "",
"help": ""
}]}
Mensuration Capabilities: Basic
Has Histograms: true
Has Colormap: false
Has Multi Dimensions : false
Rendering Rule:
Min Scale: 0
Max Scale: 0
Copyright Text:
Service Data Type: esriImageServiceDataTypeGeneric
Min Values: 19, 14, 7
Max Values: 257, 251, 235
Mean Values: 218.20904787815, 204.82574371094, 176.15039884728
Standard Deviation Values: 25.840033734756, 24.888577015414, 21.648242585819
Object ID Field:
Fields:
None
Default Mosaic Method: Center
Allowed Mosaic Methods:
SortField:
SortValue: null
Mosaic Operator: First
Default Compression Quality: 75
Default Resampling Method: Bilinear
Max Record Count: null
Max Image Height: 4100
Max Image Width: 15000
Max Download Image Count: null
Max Mosaic Image Count: null
Allow Raster Function: true
Allow Copy: true
Allow Analysis: true
Allow Compute TiePoints: false
Supports Statistics: false
Supports Advanced Queries: false
Use StandardizedQueries: true
Raster Type Infos:
Name: Raster Dataset
Description: Supports all ArcGIS Raster Datasets
Help:
Has Raster Attribute Table: false
Edit Fields Info: null
Ownership Based AccessControl For Rasters: null
Child Resources:
Info
Histograms
Statistics
Key Properties
Legend
Raster Function Infos
Supported Operations:
Export Image
Identify
Measure
Compute Histograms
Compute Statistics Histograms
Get Samples
Compute Class Statistics
Query Boundary
Compute Pixel Location
Compute Angles
Validate
Project