View In:
ArcGIS JavaScript
ArcGIS Online Map Viewer
ArcGIS Earth
ArcMap
View Footprint In:
ArcGIS Online Map Viewer
Service Description: Historical map of the Welland Canal, locks 24 and 25, showing streets (Front St., Mills St., Albert St.), landowner names, measurement and the canal lock features.
Scale: 1 inch to 50 feet
Digital reproduction of map (10 x 21 cm.) in the Public Archives of Canada. National Map Collection. Library & Archives Canada.
Georeferenced and modified from LAC e011168608 by Map, Data and GIS Library, Brock University.
Name: EarlyNiagara/WellandCanal1880locks2425Thorold
Description: Historical map of the Welland Canal, locks 24 and 25, showing streets (Front St., Mills St., Albert St.), landowner names, measurement and the canal lock features.
Scale: 1 inch to 50 feet
Digital reproduction of map (10 x 21 cm.) in the Public Archives of Canada. National Map Collection. Library & Archives Canada.
Georeferenced and modified from LAC e011168608 by Map, Data and GIS Library, Brock University.
Single Fused Map Cache: false
Extent:
XMin: 646203.6667822319
YMin: 4775932.967289002
XMax: 646422.4146682319
YMax: 4776307.041845001
Spatial Reference: 26917
(26917)
Initial Extent:
XMin: 646203.6667822319
YMin: 4775932.967289002
XMax: 646422.4146682319
YMax: 4776307.041845001
Spatial Reference: 26917
(26917)
Full Extent:
XMin: 646203.6667822319
YMin: 4775932.967289002
XMax: 646422.4146682319
YMax: 4776307.041845001
Spatial Reference: 26917
(26917)
Pixel Size X: 0.09218199999998664
Pixel Size Y: 0.09218199999990129
Band Count: 3
Pixel Type: U16
RasterFunction Infos: {"rasterFunctionInfos": [{
"name": "None",
"description": "",
"help": ""
}]}
Mensuration Capabilities: Basic
Has Histograms: false
Has Colormap: false
Has Multi Dimensions : false
Rendering Rule:
Min Scale: 0
Max Scale: 0
Copyright Text: Map, Data & GIS Library, Brock University.
Service Data Type: esriImageServiceDataTypeGeneric
Min Values: N/A
Max Values: N/A
Mean Values: N/A
Standard Deviation Values: N/A
Object ID Field:
Fields:
None
Default Mosaic Method: Center
Allowed Mosaic Methods:
SortField:
SortValue: null
Mosaic Operator: First
Default Compression Quality: 75
Default Resampling Method: Bilinear
Max Record Count: null
Max Image Height: 4100
Max Image Width: 15000
Max Download Image Count: null
Max Mosaic Image Count: null
Allow Raster Function: true
Allow Copy: true
Allow Analysis: true
Allow Compute TiePoints: false
Supports Statistics: false
Supports Advanced Queries: false
Use StandardizedQueries: true
Raster Type Infos:
Name: Raster Dataset
Description: Supports all ArcGIS Raster Datasets
Help:
Has Raster Attribute Table: false
Edit Fields Info: null
Ownership Based AccessControl For Rasters: null
Child Resources:
Info
Statistics
Key Properties
Legend
Raster Function Infos
Supported Operations:
Export Image
Identify
Measure
Compute Histograms
Compute Statistics Histograms
Get Samples
Compute Class Statistics
Query Boundary
Compute Pixel Location
Compute Angles
Validate
Project