View In:
ArcGIS JavaScript
ArcGIS Online Map Viewer
ArcGIS Earth
ArcMap
View Footprint In:
ArcGIS Online Map Viewer
Service Description: Historical map of the Second Welland Canal, showing streets, locks, lot numbers and owners' names, buildings, survey lines.
Scale 1:2,376
Relief shown by hachures.
Map date: 1882
Digital reproduction of map in the Public Archives of Canada. National Map Collection. Library & Archives Canada.
Georeferenced and modified from LAC e011168619 by Map, Data and GIS Library, Brock University.
Name: EarlyNiagara/WellandCanal1882StCatharinesThorold
Description: Historical map of the Second Welland Canal, showing streets, locks, lot numbers and owners' names, buildings, survey lines.
Scale 1:2,376
Relief shown by hachures.
Map date: 1882
Digital reproduction of map in the Public Archives of Canada. National Map Collection. Library & Archives Canada.
Georeferenced and modified from LAC e011168619 by Map, Data and GIS Library, Brock University.
Single Fused Map Cache: false
Extent:
XMin: 640728.1644562235
YMin: 4775199.701088827
XMax: 648300.1291992235
YMax: 4782021.1287988275
Spatial Reference: 26917
(26917)
Initial Extent:
XMin: 640728.1644562235
YMin: 4775199.701088827
XMax: 648300.1291992235
YMax: 4782021.1287988275
Spatial Reference: 26917
(26917)
Full Extent:
XMin: 640728.1644562235
YMin: 4775199.701088827
XMax: 648300.1291992235
YMax: 4782021.1287988275
Spatial Reference: 26917
(26917)
Pixel Size X: 1.7998489999999976
Pixel Size Y: 1.7998490000001124
Band Count: 3
Pixel Type: U16
RasterFunction Infos: {"rasterFunctionInfos": [{
"name": "None",
"description": "",
"help": ""
}]}
Mensuration Capabilities: Basic
Has Histograms: false
Has Colormap: false
Has Multi Dimensions : false
Rendering Rule:
Min Scale: 0
Max Scale: 0
Copyright Text: Map, Data & GIS Library, Brock University.
Service Data Type: esriImageServiceDataTypeGeneric
Min Values: N/A
Max Values: N/A
Mean Values: N/A
Standard Deviation Values: N/A
Object ID Field:
Fields:
None
Default Mosaic Method: Center
Allowed Mosaic Methods:
SortField:
SortValue: null
Mosaic Operator: First
Default Compression Quality: 75
Default Resampling Method: Bilinear
Max Record Count: null
Max Image Height: 4100
Max Image Width: 15000
Max Download Image Count: null
Max Mosaic Image Count: null
Allow Raster Function: true
Allow Copy: true
Allow Analysis: true
Allow Compute TiePoints: false
Supports Statistics: false
Supports Advanced Queries: false
Use StandardizedQueries: true
Raster Type Infos:
Name: Raster Dataset
Description: Supports all ArcGIS Raster Datasets
Help:
Has Raster Attribute Table: false
Edit Fields Info: null
Ownership Based AccessControl For Rasters: null
Child Resources:
Info
Statistics
Key Properties
Legend
Raster Function Infos
Supported Operations:
Export Image
Identify
Measure
Compute Histograms
Compute Statistics Histograms
Get Samples
Compute Class Statistics
Query Boundary
Compute Pixel Location
Compute Angles
Validate
Project