View In:
ArcGIS JavaScript
ArcGIS Online Map Viewer
ArcGIS Earth
ArcMap
View Footprint In:
ArcGIS Online Map Viewer
Service Description: Historical map of the Third Welland Canal showing canal boundaries, locks, buildings, Goose Island.
Existing and pending leases are shown together with the name of leasees and their dwellings.
Relief shown by hachures.
Scale: 100 feet to 1 inch.
Map date 1916
Digital reproduction of map in the Public Archives of Canada. National Map Collection. Library & Archives Canada.
Georeferenced and modified from LAC e011168607 by Map, Data and GIS Library, Brock University.
Name: EarlyNiagara/WellandCanal1916Merritton
Description: Historical map of the Third Welland Canal showing canal boundaries, locks, buildings, Goose Island.
Existing and pending leases are shown together with the name of leasees and their dwellings.
Relief shown by hachures.
Scale: 100 feet to 1 inch.
Map date 1916
Digital reproduction of map in the Public Archives of Canada. National Map Collection. Library & Archives Canada.
Georeferenced and modified from LAC e011168607 by Map, Data and GIS Library, Brock University.
Single Fused Map Cache: false
Extent:
XMin: 645723.2555831374
YMin: 4777145.58858723
XMax: 646239.4243391374
YMax: 4777580.34991923
Spatial Reference: 26917
(26917)
Initial Extent:
XMin: 645723.2555831374
YMin: 4777145.58858723
XMax: 646239.4243391374
YMax: 4777580.34991923
Spatial Reference: 26917
(26917)
Full Extent:
XMin: 645723.2555831374
YMin: 4777145.58858723
XMax: 646239.4243391374
YMax: 4777580.34991923
Spatial Reference: 26917
(26917)
Pixel Size X: 0.10383599999999982
Pixel Size Y: 0.10383599999992224
Band Count: 3
Pixel Type: U16
RasterFunction Infos: {"rasterFunctionInfos": [{
"name": "None",
"description": "",
"help": ""
}]}
Mensuration Capabilities: Basic
Has Histograms: false
Has Colormap: false
Has Multi Dimensions : false
Rendering Rule:
Min Scale: 0
Max Scale: 0
Copyright Text: Publisher: Canada. Dept. of Railways and Canals.
Map, Data & GIS Library, Brock University.
Service Data Type: esriImageServiceDataTypeGeneric
Min Values: N/A
Max Values: N/A
Mean Values: N/A
Standard Deviation Values: N/A
Object ID Field:
Fields:
None
Default Mosaic Method: Center
Allowed Mosaic Methods:
SortField:
SortValue: null
Mosaic Operator: First
Default Compression Quality: 75
Default Resampling Method: Bilinear
Max Record Count: null
Max Image Height: 4100
Max Image Width: 15000
Max Download Image Count: null
Max Mosaic Image Count: null
Allow Raster Function: true
Allow Copy: true
Allow Analysis: true
Allow Compute TiePoints: false
Supports Statistics: false
Supports Advanced Queries: false
Use StandardizedQueries: true
Raster Type Infos:
Name: Raster Dataset
Description: Supports all ArcGIS Raster Datasets
Help:
Has Raster Attribute Table: false
Edit Fields Info: null
Ownership Based AccessControl For Rasters: null
Child Resources:
Info
Statistics
Key Properties
Legend
Raster Function Infos
Supported Operations:
Export Image
Identify
Measure
Compute Histograms
Compute Statistics Histograms
Get Samples
Compute Class Statistics
Query Boundary
Compute Pixel Location
Compute Angles
Validate
Project