View In:
ArcGIS JavaScript
ArcGIS Online Map Viewer
ArcGIS Earth
ArcMap
View Footprint In:
ArcGIS Online Map Viewer
Service Description: Historical map showing the Port Colborne harbour area at the end of the Second Welland Canal, streets, building outlines, railways, property owners, lot and concessions, spoil bank, towing path, lock house, and bridges of the canal. Photoreproduction.
Name: EarlyNiagara/WellandCanalPtColborne1842
Description: Historical map showing the Port Colborne harbour area at the end of the Second Welland Canal, streets, building outlines, railways, property owners, lot and concessions, spoil bank, towing path, lock house, and bridges of the canal. Photoreproduction.
Single Fused Map Cache: false
Extent:
XMin: 646185.8554450135
YMin: 4775981.490241139
XMax: 646427.1708000669
YMax: 4776326.816343975
Spatial Reference: 26917
(26917)
Initial Extent:
XMin: 646185.8554450135
YMin: 4775981.490241139
XMax: 646427.1708000669
YMax: 4776326.816343975
Spatial Reference: 26917
(26917)
Full Extent:
XMin: 646185.8554450135
YMin: 4775981.490241139
XMax: 646427.1708000669
YMax: 4776326.816343975
Spatial Reference: 26917
(26917)
Pixel Size X: 0.031556866098261326
Pixel Size Y: 0.07784628107215004
Band Count: 1
Pixel Type: U8
RasterFunction Infos: {"rasterFunctionInfos": [{
"name": "None",
"description": "",
"help": ""
}]}
Mensuration Capabilities: Basic
Has Histograms: true
Has Colormap: false
Has Multi Dimensions : false
Rendering Rule:
Min Scale: 0
Max Scale: 0
Copyright Text: Brock University Map, Data & GIS Library
Service Data Type: esriImageServiceDataTypeGeneric
Min Values: 0
Max Values: 255
Mean Values: 188.58192050771
Standard Deviation Values: 41.405273093671
Object ID Field:
Fields:
None
Default Mosaic Method: Center
Allowed Mosaic Methods:
SortField:
SortValue: null
Mosaic Operator: First
Default Compression Quality: 75
Default Resampling Method: Bilinear
Max Record Count: null
Max Image Height: 4100
Max Image Width: 15000
Max Download Image Count: null
Max Mosaic Image Count: null
Allow Raster Function: true
Allow Copy: true
Allow Analysis: true
Allow Compute TiePoints: false
Supports Statistics: false
Supports Advanced Queries: false
Use StandardizedQueries: true
Raster Type Infos:
Name: Raster Dataset
Description: Supports all ArcGIS Raster Datasets
Help:
Has Raster Attribute Table: false
Edit Fields Info: null
Ownership Based AccessControl For Rasters: null
Child Resources:
Info
Histograms
Statistics
Key Properties
Legend
Raster Function Infos
Supported Operations:
Export Image
Identify
Measure
Compute Histograms
Compute Statistics Histograms
Get Samples
Compute Class Statistics
Query Boundary
Compute Pixel Location
Compute Angles
Validate
Project