View In:
ArcGIS JavaScript
ArcGIS Online Map Viewer
ArcGIS Earth
ArcMap
View Footprint In:
ArcGIS Online Map Viewer
Service Description: FireInsurancePlans/Merritton_1897_map_4_geo
Name: FireInsurancePlans/Merritton_1897_map_4_geo
Description:
Single Fused Map Cache: false
Extent:
XMin: 642775.9783823377
YMin: 4776487.354870855
XMax: 647092.1619390058
YMax: 4780316.173603263
Spatial Reference: 26917
(26917)
Initial Extent:
XMin: 642775.9783823377
YMin: 4776487.354870855
XMax: 647092.1619390058
YMax: 4780316.173603263
Spatial Reference: 26917
(26917)
Full Extent:
XMin: 642775.9783823377
YMin: 4776487.354870855
XMax: 647092.1619390058
YMax: 4780316.173603263
Spatial Reference: 26917
(26917)
Pixel Size X: 0.7193639261113518
Pixel Size Y: 0.5351249101897799
Band Count: 3
Pixel Type: U8
RasterFunction Infos: {"rasterFunctionInfos": [{
"name": "None",
"description": "",
"help": ""
}]}
Mensuration Capabilities: Basic
Has Histograms: true
Has Colormap: false
Has Multi Dimensions : false
Rendering Rule:
Min Scale: 0
Max Scale: 0
Copyright Text:
Service Data Type: esriImageServiceDataTypeRGB
Min Values: 30, 30, 22
Max Values: 223, 219, 211
Mean Values: 199.28265010482, 182.75061877477, 162.83374630794
Standard Deviation Values: 19.369197780033, 17.513716394443, 16.475936888734
Object ID Field:
Fields:
None
Default Mosaic Method: Center
Allowed Mosaic Methods:
SortField:
SortValue: null
Mosaic Operator: First
Default Compression Quality: 75
Default Resampling Method: Bilinear
Max Record Count: null
Max Image Height: 4100
Max Image Width: 15000
Max Download Image Count: null
Max Mosaic Image Count: null
Allow Raster Function: true
Allow Copy: true
Allow Analysis: true
Allow Compute TiePoints: false
Supports Statistics: false
Supports Advanced Queries: false
Use StandardizedQueries: true
Raster Type Infos:
Name: Raster Dataset
Description: Supports all ArcGIS Raster Datasets
Help:
Has Raster Attribute Table: false
Edit Fields Info: null
Ownership Based AccessControl For Rasters: null
Child Resources:
Info
Histograms
Statistics
Key Properties
Legend
Raster Function Infos
Supported Operations:
Export Image
Identify
Measure
Compute Histograms
Compute Statistics Histograms
Get Samples
Compute Class Statistics
Query Boundary
Compute Pixel Location
Compute Angles
Validate
Project