View In:
ArcGIS JavaScript
ArcGIS Online Map Viewer
ArcGIS Earth
ArcMap
View Footprint In:
ArcGIS Online Map Viewer
Service Description: FireInsurancePlans/Thorold_1897_index_map_1
Name: FireInsurancePlans/Thorold_1897_index_map_1
Description:
Single Fused Map Cache: false
Extent:
XMin: 645804.0971213325
YMin: 4775631.067576707
XMax: 647136.3324708116
YMax: 4777253.691162905
Spatial Reference: 26917
(26917)
Initial Extent:
XMin: 645804.0971213325
YMin: 4775631.067576707
XMax: 647136.3324708116
YMax: 4777253.691162905
Spatial Reference: 26917
(26917)
Full Extent:
XMin: 645804.0971213325
YMin: 4775631.067576707
XMax: 647136.3324708116
YMax: 4777253.691162905
Spatial Reference: 26917
(26917)
Pixel Size X: 0.48129889793317016
Pixel Size Y: 0.7543577806589418
Band Count: 3
Pixel Type: U8
RasterFunction Infos: {"rasterFunctionInfos": [{
"name": "None",
"description": "",
"help": ""
}]}
Mensuration Capabilities: Basic
Has Histograms: false
Has Colormap: false
Has Multi Dimensions : false
Rendering Rule:
Min Scale: 0
Max Scale: 0
Copyright Text:
Service Data Type: esriImageServiceDataTypeRGB
Min Values: N/A
Max Values: N/A
Mean Values: N/A
Standard Deviation Values: N/A
Object ID Field:
Fields:
None
Default Mosaic Method: Center
Allowed Mosaic Methods:
SortField:
SortValue: null
Mosaic Operator: First
Default Compression Quality: 75
Default Resampling Method: Bilinear
Max Record Count: null
Max Image Height: 4100
Max Image Width: 15000
Max Download Image Count: null
Max Mosaic Image Count: null
Allow Raster Function: true
Allow Copy: true
Allow Analysis: true
Allow Compute TiePoints: false
Supports Statistics: false
Supports Advanced Queries: false
Use StandardizedQueries: true
Raster Type Infos:
Name: Raster Dataset
Description: Supports all ArcGIS Raster Datasets
Help:
Has Raster Attribute Table: false
Edit Fields Info: null
Ownership Based AccessControl For Rasters: null
Child Resources:
Info
Statistics
Key Properties
Legend
Raster Function Infos
Supported Operations:
Export Image
Identify
Measure
Compute Histograms
Compute Statistics Histograms
Get Samples
Compute Class Statistics
Query Boundary
Compute Pixel Location
Compute Angles
Validate
Project