View In:
ArcGIS JavaScript
ArcGIS Online Map Viewer
ArcGIS Earth
ArcMap
View Footprint In:
ArcGIS Online Map Viewer
Service Description: IsleStJean1765_tif
Name: IsleStJean1765_tif
Description:
Single Fused Map Cache: false
Extent:
XMin: -7038125.794831556
YMin: 5765946.269549307
XMax: -6985360.079830006
YMax: 5861123.43248023
Spatial Reference: 102100
(3857)
Initial Extent:
XMin: -7038125.794831556
YMin: 5765946.269549307
XMax: -6985360.079830006
YMax: 5861123.43248023
Spatial Reference: 102100
(3857)
Full Extent:
XMin: -7038125.794831556
YMin: 5765946.269549307
XMax: -6985360.079830006
YMax: 5861123.43248023
Spatial Reference: 102100
(3857)
Pixel Size X: 5.781276980557741
Pixel Size Y: 5.781276980557771
Band Count: 3
Pixel Type: U8
RasterFunction Infos: {"rasterFunctionInfos": [{
"name": "None",
"description": "",
"help": ""
}]}
Mensuration Capabilities: Basic
Has Histograms: true
Has Colormap: false
Has Multi Dimensions : false
Rendering Rule:
Min Scale: 0
Max Scale: 0
Copyright Text:
Service Data Type: esriImageServiceDataTypeRGB
Min Values: 0, 0, 0
Max Values: 255, 255, 255
Mean Values: 214.67590488694, 208.46038142797, 187.14697124434
Standard Deviation Values: 25.103457659235, 23.915461696194, 25.99832655054
Object ID Field:
Fields:
None
Default Mosaic Method: Center
Allowed Mosaic Methods:
SortField:
SortValue: null
Mosaic Operator: First
Default Compression Quality: 75
Default Resampling Method: Bilinear
Max Record Count: null
Max Image Height: 4100
Max Image Width: 15000
Max Download Image Count: null
Max Mosaic Image Count: null
Allow Raster Function: true
Allow Copy: true
Allow Analysis: true
Allow Compute TiePoints: false
Supports Statistics: false
Supports Advanced Queries: false
Use StandardizedQueries: true
Raster Type Infos:
Name: Raster Dataset
Description: Supports all ArcGIS Raster Datasets
Help:
Has Raster Attribute Table: false
Edit Fields Info: null
Ownership Based AccessControl For Rasters: null
Child Resources:
Info
Histograms
Statistics
Key Properties
Legend
Raster Function Infos
Supported Operations:
Export Image
Identify
Measure
Compute Histograms
Compute Statistics Histograms
Get Samples
Compute Class Statistics
Query Boundary
Compute Pixel Location
Compute Angles
Validate
Project