View In:
ArcGIS JavaScript
ArcGIS Online Map Viewer
ArcGIS Earth
ArcMap
View Footprint In:
ArcGIS Online Map Viewer
Service Description: Agricultural Land Use, Niagara Region, 1983
Name: NiagaraAgric1983/NiagaraAgric1geo
Description: Agricultural Land Use, Niagara Region, 1983
Single Fused Map Cache: false
Extent:
XMin: 598255.7906881693
YMin: 4756708.897666194
XMax: 633745.7315731694
YMax: 4781784.986053194
Spatial Reference: 26917
(26917)
Initial Extent:
XMin: 598255.7906881693
YMin: 4756708.897666194
XMax: 633745.7315731694
YMax: 4781784.986053194
Spatial Reference: 26917
(26917)
Full Extent:
XMin: 598255.7906881693
YMin: 4756708.897666194
XMax: 633745.7315731694
YMax: 4781784.986053194
Spatial Reference: 26917
(26917)
Pixel Size X: 2.168649000000003
Pixel Size Y: 2.1686490000000322
Band Count: 3
Pixel Type: U16
RasterFunction Infos: {"rasterFunctionInfos": [{
"name": "None",
"description": "",
"help": ""
}]}
Mensuration Capabilities: Basic
Has Histograms: true
Has Colormap: false
Has Multi Dimensions : false
Rendering Rule:
Min Scale: 0
Max Scale: 0
Copyright Text: Agriculture Canada
Service Data Type: esriImageServiceDataTypeGeneric
Min Values: 48, 67, 10
Max Values: 255, 255, 255
Mean Values: 245.87031514437, 247.26569811329, 245.86574185796
Standard Deviation Values: 25.050675568483, 22.506512878367, 20.932301305249
Object ID Field:
Fields:
None
Default Mosaic Method: Center
Allowed Mosaic Methods:
SortField:
SortValue: null
Mosaic Operator: First
Default Compression Quality: 75
Default Resampling Method: Bilinear
Max Record Count: null
Max Image Height: 4100
Max Image Width: 15000
Max Download Image Count: null
Max Mosaic Image Count: null
Allow Raster Function: true
Allow Copy: true
Allow Analysis: true
Allow Compute TiePoints: false
Supports Statistics: false
Supports Advanced Queries: false
Use StandardizedQueries: true
Raster Type Infos:
Name: Raster Dataset
Description: Supports all ArcGIS Raster Datasets
Help:
Has Raster Attribute Table: false
Edit Fields Info: null
Ownership Based AccessControl For Rasters: null
Child Resources:
Info
Histograms
Statistics
Key Properties
Legend
Raster Function Infos
Supported Operations:
Export Image
Identify
Measure
Compute Histograms
Compute Statistics Histograms
Get Samples
Compute Class Statistics
Query Boundary
Compute Pixel Location
Compute Angles
Validate
Project