View In:
ArcGIS JavaScript
ArcGIS Online Map Viewer
ArcGIS Earth
ArcMap
View Footprint In:
ArcGIS Online Map Viewer
Service Description: Agricultural Land Use, Niagara Region, 1983
Name: NiagaraAgric1983/NiagaraAgric3geo
Description: Agricultural Land Use, Niagara Region, 1983
Single Fused Map Cache: false
Extent:
XMin: 634020.2602843433
YMin: 4770339.573287503
XMax: 661135.1650843433
YMax: 4793771.642423503
Spatial Reference: 26917
(26917)
Initial Extent:
XMin: 634020.2602843433
YMin: 4770339.573287503
XMax: 661135.1650843433
YMax: 4793771.642423503
Spatial Reference: 26917
(26917)
Full Extent:
XMin: 634020.2602843433
YMin: 4770339.573287503
XMax: 661135.1650843433
YMax: 4793771.642423503
Spatial Reference: 26917
(26917)
Pixel Size X: 2.1779040000000016
Pixel Size Y: 2.177904000000022
Band Count: 3
Pixel Type: U16
RasterFunction Infos: {"rasterFunctionInfos": [{
"name": "None",
"description": "",
"help": ""
}]}
Mensuration Capabilities: Basic
Has Histograms: true
Has Colormap: false
Has Multi Dimensions : false
Rendering Rule:
Min Scale: 0
Max Scale: 0
Copyright Text:
Service Data Type: esriImageServiceDataTypeGeneric
Min Values: 18, 49, 47
Max Values: 255, 255, 255
Mean Values: 242.6678165486, 244.76826556863, 244.42497228039
Standard Deviation Values: 32.121039009683, 28.098360616865, 24.83647058012
Object ID Field:
Fields:
None
Default Mosaic Method: Center
Allowed Mosaic Methods:
SortField:
SortValue: null
Mosaic Operator: First
Default Compression Quality: 75
Default Resampling Method: Bilinear
Max Record Count: null
Max Image Height: 4100
Max Image Width: 15000
Max Download Image Count: null
Max Mosaic Image Count: null
Allow Raster Function: true
Allow Copy: true
Allow Analysis: true
Allow Compute TiePoints: false
Supports Statistics: false
Supports Advanced Queries: false
Use StandardizedQueries: true
Raster Type Infos:
Name: Raster Dataset
Description: Supports all ArcGIS Raster Datasets
Help:
Has Raster Attribute Table: false
Edit Fields Info: null
Ownership Based AccessControl For Rasters: null
Child Resources:
Info
Histograms
Statistics
Key Properties
Legend
Raster Function Infos
Supported Operations:
Export Image
Identify
Measure
Compute Histograms
Compute Statistics Histograms
Get Samples
Compute Class Statistics
Query Boundary
Compute Pixel Location
Compute Angles
Validate
Project