View In:
ArcGIS JavaScript
ArcGIS Online Map Viewer
ArcGIS Earth
ArcMap
View Footprint In:
ArcGIS Online Map Viewer
Service Description: Agricultural Land Use, Niagara Region, 1983
Name: NiagaraAgric1983/NiagaraAgric4geo
Description: Agricultural Land Use, Niagara Region, 1983
Single Fused Map Cache: false
Extent:
XMin: -8840578.216474093
YMin: 5297657.971540029
XMax: -8803704.838954093
YMax: 5338780.469572029
Spatial Reference: 102100
(3857)
Initial Extent:
XMin: -8840578.216474093
YMin: 5297657.971540029
XMax: -8803704.838954093
YMax: 5338780.469572029
Spatial Reference: 102100
(3857)
Full Extent:
XMin: -8840578.216474093
YMin: 5297657.971540029
XMax: -8803704.838954093
YMax: 5338780.469572029
Spatial Reference: 102100
(3857)
Pixel Size X: 2.9183520000000445
Pixel Size Y: 2.918351999999994
Band Count: 3
Pixel Type: U16
RasterFunction Infos: {"rasterFunctionInfos": [{
"name": "None",
"description": "",
"help": ""
}]}
Mensuration Capabilities: Basic
Has Histograms: true
Has Colormap: false
Has Multi Dimensions : false
Rendering Rule:
Min Scale: 0
Max Scale: 0
Copyright Text:
Service Data Type: esriImageServiceDataTypeGeneric
Min Values: 38, 70, 46
Max Values: 255, 255, 255
Mean Values: 243.14599585024, 244.84721494851, 246.43378682716
Standard Deviation Values: 28.505594430044, 25.752889697082, 23.798019612416
Object ID Field:
Fields:
None
Default Mosaic Method: Center
Allowed Mosaic Methods:
SortField:
SortValue: null
Mosaic Operator: First
Default Compression Quality: 75
Default Resampling Method: Bilinear
Max Record Count: null
Max Image Height: 4100
Max Image Width: 15000
Max Download Image Count: null
Max Mosaic Image Count: null
Allow Raster Function: true
Allow Copy: true
Allow Analysis: true
Allow Compute TiePoints: false
Supports Statistics: false
Supports Advanced Queries: false
Use StandardizedQueries: true
Raster Type Infos:
Name: Raster Dataset
Description: Supports all ArcGIS Raster Datasets
Help:
Has Raster Attribute Table: false
Edit Fields Info: null
Ownership Based AccessControl For Rasters: null
Child Resources:
Info
Histograms
Statistics
Key Properties
Legend
Raster Function Infos
Supported Operations:
Export Image
Identify
Measure
Compute Histograms
Compute Statistics Histograms
Get Samples
Compute Class Statistics
Query Boundary
Compute Pixel Location
Compute Angles
Validate
Project