View In:
ArcGIS JavaScript
ArcGIS Online Map Viewer
ArcGIS Earth
ArcMap
View Footprint In:
ArcGIS Online Map Viewer
Service Description: General Land Use - Niagara Region, 1983
Name: NiagaraAgric1983/NiagaraLandUse1983geo
Description: General Land Use - Niagara Region, 1983
Single Fused Map Cache: false
Extent:
XMin: 596998.5451174789
YMin: 4737949.432131382
XMax: 675814.4864974789
YMax: 4797520.022871382
Spatial Reference: 26917
(26917)
Initial Extent:
XMin: 596998.5451174789
YMin: 4737949.432131382
XMax: 675814.4864974789
YMax: 4797520.022871382
Spatial Reference: 26917
(26917)
Full Extent:
XMin: 596998.5451174789
YMin: 4737949.432131382
XMax: 675814.4864974789
YMax: 4797520.022871382
Spatial Reference: 26917
(26917)
Pixel Size X: 8.653484999999998
Pixel Size Y: 8.653484999999986
Band Count: 3
Pixel Type: U16
RasterFunction Infos: {"rasterFunctionInfos": [{
"name": "None",
"description": "",
"help": ""
}]}
Mensuration Capabilities: Basic
Has Histograms: true
Has Colormap: false
Has Multi Dimensions : false
Rendering Rule:
Min Scale: 0
Max Scale: 0
Copyright Text:
Service Data Type: esriImageServiceDataTypeGeneric
Min Values: 35, 52, 0
Max Values: 255, 255, 255
Mean Values: 225.3453802566, 216.23185037881, 196.55896690992
Standard Deviation Values: 45.403334061456, 45.444591206808, 67.688314144117
Object ID Field:
Fields:
None
Default Mosaic Method: Center
Allowed Mosaic Methods:
SortField:
SortValue: null
Mosaic Operator: First
Default Compression Quality: 75
Default Resampling Method: Bilinear
Max Record Count: null
Max Image Height: 4100
Max Image Width: 15000
Max Download Image Count: null
Max Mosaic Image Count: null
Allow Raster Function: true
Allow Copy: true
Allow Analysis: true
Allow Compute TiePoints: false
Supports Statistics: false
Supports Advanced Queries: false
Use StandardizedQueries: true
Raster Type Infos:
Name: Raster Dataset
Description: Supports all ArcGIS Raster Datasets
Help:
Has Raster Attribute Table: false
Edit Fields Info: null
Ownership Based AccessControl For Rasters: null
Child Resources:
Info
Histograms
Statistics
Key Properties
Legend
Raster Function Infos
Supported Operations:
Export Image
Identify
Measure
Compute Histograms
Compute Statistics Histograms
Get Samples
Compute Class Statistics
Query Boundary
Compute Pixel Location
Compute Angles
Validate
Project