View In:
ArcGIS JavaScript
ArcGIS Online Map Viewer
ArcGIS Earth
ArcMap
View Footprint In:
ArcGIS Online Map Viewer
Service Description: Niagara Soils, 1989
Name: NiagaraSoils1989/NiagaraSoils1989geo
Description: Niagara Soils, 1989
Single Fused Map Cache: false
Extent:
XMin: 596756.8070981571
YMin: 4738590.7880518995
XMax: 693267.3247961571
YMax: 4797888.460079899
Spatial Reference: 26917
(26917)
Initial Extent:
XMin: 596756.8070981571
YMin: 4738590.7880518995
XMax: 693267.3247961571
YMax: 4797888.460079899
Spatial Reference: 26917
(26917)
Full Extent:
XMin: 596756.8070981571
YMin: 4738590.7880518995
XMax: 693267.3247961571
YMax: 4797888.460079899
Spatial Reference: 26917
(26917)
Pixel Size X: 8.674322999999996
Pixel Size Y: 8.674322999999932
Band Count: 3
Pixel Type: U16
RasterFunction Infos: {"rasterFunctionInfos": [{
"name": "None",
"description": "",
"help": ""
}]}
Mensuration Capabilities: Basic
Has Histograms: true
Has Colormap: false
Has Multi Dimensions : false
Rendering Rule:
Min Scale: 0
Max Scale: 0
Copyright Text:
Service Data Type: esriImageServiceDataTypeGeneric
Min Values: 31, 24, 18
Max Values: 255, 255, 255
Mean Values: 227.4941152376, 225.88989827093, 225.05757419619
Standard Deviation Values: 43.006338401915, 46.869261425146, 46.788612626591
Object ID Field:
Fields:
None
Default Mosaic Method: Center
Allowed Mosaic Methods:
SortField:
SortValue: null
Mosaic Operator: First
Default Compression Quality: 75
Default Resampling Method: Bilinear
Max Record Count: null
Max Image Height: 4100
Max Image Width: 15000
Max Download Image Count: null
Max Mosaic Image Count: null
Allow Raster Function: true
Allow Copy: true
Allow Analysis: true
Allow Compute TiePoints: false
Supports Statistics: false
Supports Advanced Queries: false
Use StandardizedQueries: true
Raster Type Infos:
Name: Raster Dataset
Description: Supports all ArcGIS Raster Datasets
Help:
Has Raster Attribute Table: false
Edit Fields Info: null
Ownership Based AccessControl For Rasters: null
Child Resources:
Info
Histograms
Statistics
Key Properties
Legend
Raster Function Infos
Supported Operations:
Export Image
Identify
Measure
Compute Histograms
Compute Statistics Histograms
Get Samples
Compute Class Statistics
Query Boundary
Compute Pixel Location
Compute Angles
Validate
Project