View In:
ArcGIS JavaScript
ArcGIS Online Map Viewer
ArcGIS Earth
ArcMap
View Footprint In:
ArcGIS Online Map Viewer
Service Description: Niagara Soils, 1989
Name: NiagaraSoils1989/NiagaraSoils1geo
Description: Niagara Soils, 1989
Single Fused Map Cache: false
Extent:
XMin: 598232.4475778231
YMin: 4756676.969630594
XMax: 633707.7454358231
YMax: 4782105.166424595
Spatial Reference: 26917
(26917)
Initial Extent:
XMin: 598232.4475778231
YMin: 4756676.969630594
XMax: 633707.7454358231
YMax: 4782105.166424595
Spatial Reference: 26917
(26917)
Full Extent:
XMin: 598232.4475778231
YMin: 4756676.969630594
XMax: 633707.7454358231
YMax: 4782105.166424595
Spatial Reference: 26917
(26917)
Pixel Size X: 2.1709380000000023
Pixel Size Y: 2.1709380000000387
Band Count: 3
Pixel Type: U16
RasterFunction Infos: {"rasterFunctionInfos": [{
"name": "None",
"description": "",
"help": ""
}]}
Mensuration Capabilities: Basic
Has Histograms: true
Has Colormap: false
Has Multi Dimensions : false
Rendering Rule:
Min Scale: 0
Max Scale: 0
Copyright Text:
Service Data Type: esriImageServiceDataTypeGeneric
Min Values: 35, 66, 62
Max Values: 255, 255, 255
Mean Values: 242.67945033432, 244.07243969877, 245.62791679951
Standard Deviation Values: 29.808525663293, 27.111995091187, 24.789950597278
Object ID Field:
Fields:
None
Default Mosaic Method: Center
Allowed Mosaic Methods:
SortField:
SortValue: null
Mosaic Operator: First
Default Compression Quality: 75
Default Resampling Method: Bilinear
Max Record Count: null
Max Image Height: 4100
Max Image Width: 15000
Max Download Image Count: null
Max Mosaic Image Count: null
Allow Raster Function: true
Allow Copy: true
Allow Analysis: true
Allow Compute TiePoints: false
Supports Statistics: false
Supports Advanced Queries: false
Use StandardizedQueries: true
Raster Type Infos:
Name: Raster Dataset
Description: Supports all ArcGIS Raster Datasets
Help:
Has Raster Attribute Table: false
Edit Fields Info: null
Ownership Based AccessControl For Rasters: null
Child Resources:
Info
Histograms
Statistics
Key Properties
Legend
Raster Function Infos
Supported Operations:
Export Image
Identify
Measure
Compute Histograms
Compute Statistics Histograms
Get Samples
Compute Class Statistics
Query Boundary
Compute Pixel Location
Compute Angles
Validate
Project