View In:
ArcGIS JavaScript
ArcGIS Online Map Viewer
ArcGIS Earth
ArcMap
View Footprint In:
ArcGIS Online Map Viewer
Service Description: Niagara Soils, 1989
Name: NiagaraSoils1989/NiagaraSoils2geo
Description: Niagara Soils, 1989
Single Fused Map Cache: false
Extent:
XMin: 607167.4915274078
YMin: 4763080.976227363
XMax: 639452.7821114077
YMax: 4789210.428904363
Spatial Reference: 26917
(26917)
Initial Extent:
XMin: 607167.4915274078
YMin: 4763080.976227363
XMax: 639452.7821114077
YMax: 4789210.428904363
Spatial Reference: 26917
(26917)
Full Extent:
XMin: 607167.4915274078
YMin: 4763080.976227363
XMax: 639452.7821114077
YMax: 4789210.428904363
Spatial Reference: 26917
(26917)
Pixel Size X: 2.1546509999999963
Pixel Size Y: 2.154651000000026
Band Count: 3
Pixel Type: U16
RasterFunction Infos: {"rasterFunctionInfos": [{
"name": "None",
"description": "",
"help": ""
}]}
Mensuration Capabilities: Basic
Has Histograms: true
Has Colormap: false
Has Multi Dimensions : false
Rendering Rule:
Min Scale: 0
Max Scale: 0
Copyright Text:
Service Data Type: esriImageServiceDataTypeGeneric
Min Values: 37, 76, 28
Max Values: 255, 255, 255
Mean Values: 240.73536967862, 243.91361393132, 246.60683848402
Standard Deviation Values: 27.905089626089, 24.690034447843, 22.545006517462
Object ID Field:
Fields:
None
Default Mosaic Method: Center
Allowed Mosaic Methods:
SortField:
SortValue: null
Mosaic Operator: First
Default Compression Quality: 75
Default Resampling Method: Bilinear
Max Record Count: null
Max Image Height: 4100
Max Image Width: 15000
Max Download Image Count: null
Max Mosaic Image Count: null
Allow Raster Function: true
Allow Copy: true
Allow Analysis: true
Allow Compute TiePoints: false
Supports Statistics: false
Supports Advanced Queries: false
Use StandardizedQueries: true
Raster Type Infos:
Name: Raster Dataset
Description: Supports all ArcGIS Raster Datasets
Help:
Has Raster Attribute Table: false
Edit Fields Info: null
Ownership Based AccessControl For Rasters: null
Child Resources:
Info
Histograms
Statistics
Key Properties
Legend
Raster Function Infos
Supported Operations:
Export Image
Identify
Measure
Compute Histograms
Compute Statistics Histograms
Get Samples
Compute Class Statistics
Query Boundary
Compute Pixel Location
Compute Angles
Validate
Project