View In:
ArcGIS JavaScript
ArcGIS Online Map Viewer
ArcGIS Earth
ArcMap
View Footprint In:
ArcGIS Online Map Viewer
Service Description: Niagara Soils, 1989
Name: NiagaraSoils1989/NiagaraSoils3geo
Description: Niagara Soils, 1989
Single Fused Map Cache: false
Extent:
XMin: 634179.5405754229
YMin: 4765409.388584061
XMax: 661396.1642404229
YMax: 4793447.156909061
Spatial Reference: 26917
(26917)
Initial Extent:
XMin: 634179.5405754229
YMin: 4765409.388584061
XMax: 661396.1642404229
YMax: 4793447.156909061
Spatial Reference: 26917
(26917)
Full Extent:
XMin: 634179.5405754229
YMin: 4765409.388584061
XMax: 661396.1642404229
YMax: 4793447.156909061
Spatial Reference: 26917
(26917)
Pixel Size X: 2.1609069999999972
Pixel Size Y: 2.1609070000000052
Band Count: 3
Pixel Type: U16
RasterFunction Infos: {"rasterFunctionInfos": [{
"name": "None",
"description": "",
"help": ""
}]}
Mensuration Capabilities: Basic
Has Histograms: true
Has Colormap: false
Has Multi Dimensions : false
Rendering Rule:
Min Scale: 0
Max Scale: 0
Copyright Text:
Service Data Type: esriImageServiceDataTypeGeneric
Min Values: 42, 65, 41
Max Values: 255, 255, 255
Mean Values: 241.38553320783, 244.5123758525, 247.03871778022
Standard Deviation Values: 27.978208455304, 24.625740512379, 22.623964973622
Object ID Field:
Fields:
None
Default Mosaic Method: Center
Allowed Mosaic Methods:
SortField:
SortValue: null
Mosaic Operator: First
Default Compression Quality: 75
Default Resampling Method: Bilinear
Max Record Count: null
Max Image Height: 4100
Max Image Width: 15000
Max Download Image Count: null
Max Mosaic Image Count: null
Allow Raster Function: true
Allow Copy: true
Allow Analysis: true
Allow Compute TiePoints: false
Supports Statistics: false
Supports Advanced Queries: false
Use StandardizedQueries: true
Raster Type Infos:
Name: Raster Dataset
Description: Supports all ArcGIS Raster Datasets
Help:
Has Raster Attribute Table: false
Edit Fields Info: null
Ownership Based AccessControl For Rasters: null
Child Resources:
Info
Histograms
Statistics
Key Properties
Legend
Raster Function Infos
Supported Operations:
Export Image
Identify
Measure
Compute Histograms
Compute Statistics Histograms
Get Samples
Compute Class Statistics
Query Boundary
Compute Pixel Location
Compute Angles
Validate
Project