View In:
ArcGIS JavaScript
ArcGIS Online Map Viewer
ArcGIS Earth
ArcMap
View Footprint In:
ArcGIS Online Map Viewer
Service Description: Niagara Soils, 1989
Name: NiagaraSoils1989/NiagaraSoils5geo
Description: Niagara Soils, 1989
Single Fused Map Cache: false
Extent:
XMin: 642574.1484237007
YMin: 4751187.659893804
XMax: 664412.5169997007
YMax: 4780366.110709804
Spatial Reference: 26917
(26917)
Initial Extent:
XMin: 642574.1484237007
YMin: 4751187.659893804
XMax: 664412.5169997007
YMax: 4780366.110709804
Spatial Reference: 26917
(26917)
Full Extent:
XMin: 642574.1484237007
YMin: 4751187.659893804
XMax: 664412.5169997007
YMax: 4780366.110709804
Spatial Reference: 26917
(26917)
Pixel Size X: 2.165215999999998
Pixel Size Y: 2.165215999999991
Band Count: 3
Pixel Type: U16
RasterFunction Infos: {"rasterFunctionInfos": [{
"name": "None",
"description": "",
"help": ""
}]}
Mensuration Capabilities: Basic
Has Histograms: true
Has Colormap: false
Has Multi Dimensions : false
Rendering Rule:
Min Scale: 0
Max Scale: 0
Copyright Text:
Service Data Type: esriImageServiceDataTypeGeneric
Min Values: 28, 57, 16
Max Values: 255, 255, 255
Mean Values: 242.16994602077, 244.77810211081, 247.49962524551
Standard Deviation Values: 29.428739134966, 25.274981593285, 21.974535669063
Object ID Field:
Fields:
None
Default Mosaic Method: Center
Allowed Mosaic Methods:
SortField:
SortValue: null
Mosaic Operator: First
Default Compression Quality: 75
Default Resampling Method: Bilinear
Max Record Count: null
Max Image Height: 4100
Max Image Width: 15000
Max Download Image Count: null
Max Mosaic Image Count: null
Allow Raster Function: true
Allow Copy: true
Allow Analysis: true
Allow Compute TiePoints: false
Supports Statistics: false
Supports Advanced Queries: false
Use StandardizedQueries: true
Raster Type Infos:
Name: Raster Dataset
Description: Supports all ArcGIS Raster Datasets
Help:
Has Raster Attribute Table: false
Edit Fields Info: null
Ownership Based AccessControl For Rasters: null
Child Resources:
Info
Histograms
Statistics
Key Properties
Legend
Raster Function Infos
Supported Operations:
Export Image
Identify
Measure
Compute Histograms
Compute Statistics Histograms
Get Samples
Compute Class Statistics
Query Boundary
Compute Pixel Location
Compute Angles
Validate
Project