View In:
ArcGIS JavaScript
ArcGIS Online Map Viewer
ArcGIS Earth
ArcMap
View Footprint In:
ArcGIS Online Map Viewer
Service Description: Niagara Soils, 1989
Name: NiagaraSoils1989/NiagaraSoils6geo
Description: Niagara Soils, 1989
Single Fused Map Cache: false
Extent:
XMin: 613027.3762808662
YMin: 4742016.168616641
XMax: 642678.9125588662
YMax: 4765574.445988641
Spatial Reference: 26917
(26917)
Initial Extent:
XMin: 613027.3762808662
YMin: 4742016.168616641
XMax: 642678.9125588662
YMax: 4765574.445988641
Spatial Reference: 26917
(26917)
Full Extent:
XMin: 613027.3762808662
YMin: 4742016.168616641
XMax: 642678.9125588662
YMax: 4765574.445988641
Spatial Reference: 26917
(26917)
Pixel Size X: 2.178497999999999
Pixel Size Y: 2.178497999999982
Band Count: 3
Pixel Type: U16
RasterFunction Infos: {"rasterFunctionInfos": [{
"name": "None",
"description": "",
"help": ""
}]}
Mensuration Capabilities: Basic
Has Histograms: true
Has Colormap: false
Has Multi Dimensions : false
Rendering Rule:
Min Scale: 0
Max Scale: 0
Copyright Text:
Service Data Type: esriImageServiceDataTypeGeneric
Min Values: 35, 78, 79
Max Values: 255, 255, 255
Mean Values: 244.57431134523, 246.97975788024, 249.12233165304
Standard Deviation Values: 24.692427374962, 21.078014092552, 18.798846242199
Object ID Field:
Fields:
None
Default Mosaic Method: Center
Allowed Mosaic Methods:
SortField:
SortValue: null
Mosaic Operator: First
Default Compression Quality: 75
Default Resampling Method: Bilinear
Max Record Count: null
Max Image Height: 4100
Max Image Width: 15000
Max Download Image Count: null
Max Mosaic Image Count: null
Allow Raster Function: true
Allow Copy: true
Allow Analysis: true
Allow Compute TiePoints: false
Supports Statistics: false
Supports Advanced Queries: false
Use StandardizedQueries: true
Raster Type Infos:
Name: Raster Dataset
Description: Supports all ArcGIS Raster Datasets
Help:
Has Raster Attribute Table: false
Edit Fields Info: null
Ownership Based AccessControl For Rasters: null
Child Resources:
Info
Histograms
Statistics
Key Properties
Legend
Raster Function Infos
Supported Operations:
Export Image
Identify
Measure
Compute Histograms
Compute Statistics Histograms
Get Samples
Compute Class Statistics
Query Boundary
Compute Pixel Location
Compute Angles
Validate
Project